BEGIN:VCALENDAR
PRODID:NingEventWidget-v1
VERSION:2.0
METHOD:PUBLISH
BEGIN:VEVENT
UID:1791588:Event:177608
DTSTAMP:20260421T044238Z
SUMMARY:CT Prep and Exam Review (Live Event)
DESCRIPTION:Course Topics\nDay 1\n\nCT Instrumentation (Including: Rad
 iation Physics and Informatics)\nCT Physics (Including: Reconstruction
 , Data Acquisition, Image Display, and Processing with Post-Processing
 )\nCT Image Quality (Including Artifacts)\n\nDay 2\n\nPatient Care (In
 cluding Radiation Safety)\nCT Procedures\nCT Anatomy and Pathology\n\n
 \nFor more information visit https://community.radrounds.com/events/ct
 -prep-and-exam-review-live-event-1
DTSTART:20180120T140000Z
DTEND:20180121T213000Z
CATEGORIES:live, event
LOCATION:Advanced Health Education Center
WEBSITE:https://store.aheconline.com/index.php?route=product/product&a
 mp;amp;path=59&amp;amp;product_id=3422
URL:https://store.aheconline.com/index.php?route=product/product&amp;a
 mp;path=59&amp;amp;product_id=3422
CONTACT:800-239-1361
ORGANIZER;CN="Larry Carney":https://community.radrounds.com/profile/La
 rryCarney
ATTACH;FMTTYPE="image/jpeg":
ATTENDEE;ROLE=REQ-PARTICIPANT;PARTSTAT=ACCEPTED;RSVP=TRUE;CN="Larry Ca
 rney":https://community.radrounds.com/profile/LarryCarney
END:VEVENT
END:VCALENDAR
