BEGIN:VCALENDAR
PRODID:NingEventWidget-v1
VERSION:2.0
METHOD:PUBLISH
BEGIN:VEVENT
UID:1791588:Event:169050
DTSTAMP:20260421T061714Z
SUMMARY:CT & MRI Safety: Meeting the Standards
DESCRIPTION:Course Description Coming Soon!\n\nFor more information vi
 sit https://community.radrounds.com/events/ct-mri-safety-meeting-the-s
 tandards-3
DTSTART:20170422T130000Z
DTEND:20170422T203000Z
CATEGORIES:live, event
LOCATION:Uvalde
WEBSITE:https://store.aheconline.com/index.php?route=product/product&p
 ath=59&product_id=2892
URL:https://store.aheconline.com/index.php?route=product/product&path=
 59&product_id=2892
CONTACT:1-800-239-1361
ORGANIZER;CN="Larry Carney":https://community.radrounds.com/profile/La
 rryCarney
ATTACH;FMTTYPE="image/jpeg":
ATTENDEE;ROLE=REQ-PARTICIPANT;PARTSTAT=ACCEPTED;RSVP=TRUE;CN="Larry Ca
 rney":https://community.radrounds.com/profile/LarryCarney
END:VEVENT
END:VCALENDAR
