BEGIN:VCALENDAR
PRODID:NingEventWidget-v1
VERSION:2.0
METHOD:PUBLISH
BEGIN:VEVENT
UID:1791588:Event:168058
DTSTAMP:20260422T070337Z
SUMMARY:CT & MRI Safety: Meeting the Standards
DESCRIPTION:Course Topics\n\nIntroduction: Who is Working on the Probl
 em of Overexposure?\nRadiation Concerns\nRadiation Dose Reduction Stra
 tegies for CT\nTen Steps to Perfom an MRI exam\nNew MRI Technology\nPa
 tient Considerations\nSafety\n\n\nFor more information visit https://c
 ommunity.radrounds.com/events/ct-mri-safety-meeting-the-standards-2
DTSTART:20161029T130000Z
DTEND:20161029T203000Z
CATEGORIES:simulcast
LOCATION:Houston
WEBSITE:https://store.aheconline.com/index.php?route=product/product&p
 ath=59&product_id=2265
URL:https://store.aheconline.com/index.php?route=product/product&path=
 59&product_id=2265
CONTACT:18002391361
ORGANIZER;CN="Larry Carney":https://community.radrounds.com/profile/La
 rryCarney
ATTACH;FMTTYPE="image/jpeg":
ATTENDEE;ROLE=REQ-PARTICIPANT;PARTSTAT=ACCEPTED;RSVP=TRUE;CN="Larry Ca
 rney":https://community.radrounds.com/profile/LarryCarney
END:VEVENT
END:VCALENDAR
