BEGIN:VCALENDAR
PRODID:NingEventWidget-v1
VERSION:2.0
METHOD:PUBLISH
BEGIN:VEVENT
UID:1791588:Event:183654
DTSTAMP:20260422T182848Z
SUMMARY:CT Imaging in the Emergency Department (Live Webinar)
DESCRIPTION:Course Topics\n\nFunction of ED within the Hospital\nED Pa
 tient Population\nMedical Emergencies\nMedical Imaging and Trauma\nPri
 mary Modalities Used\nWhy CT?\nER CT Algorithm\nCT as a Dose Contribut
 or\n\nFor more information visit https://community.radrounds.com/event
 s/ct-imaging-in-the-emergency-department-live-webinar-1
DTSTART:20180911T130000Z
DTEND:20180911T150000Z
CATEGORIES:live, webinar
LOCATION:Advanced Health Education Center
WEBSITE:https://store.aheconline.com/
URL:https://store.aheconline.com/
CONTACT:800-239-1361
ORGANIZER;CN="Larry Carney":https://community.radrounds.com/profile/La
 rryCarney
ATTACH;FMTTYPE="image/jpeg":
ATTENDEE;ROLE=REQ-PARTICIPANT;PARTSTAT=ACCEPTED;RSVP=TRUE;CN="Larry Ca
 rney":https://community.radrounds.com/profile/LarryCarney
END:VEVENT
END:VCALENDAR
