BEGIN:VCALENDAR
PRODID:NingEventWidget-v1
VERSION:2.0
METHOD:PUBLISH
BEGIN:VEVENT
UID:1791588:Event:168019
DTSTAMP:20260420T112517Z
SUMMARY:CT Imaging in  the Emergency Department [ 6:30pm CST]
DESCRIPTION:Course Topics\n\nFunction of ED within the Hospital\nED Pa
 tient Population\nMedical Emergencies\nMedical Imaging and Trauma\nPri
 mary Modalities Used\nWhy CT?\nER CT Algorithm\nCT as a Dose Contribut
 or\n\nStart Time Based on Time Zone:\n\n7:30PM Eastern\n6:30PM Central
 \n5:30PM Mountain\n4:30PM Pacific\n3:30PM Alaska\n2:30PM Hawaii\n\n\nF
 or more information visit https://community.radrounds.com/events/ct-im
 aging-in-the-emergency-department-6-30pm-cst
DTSTART:20160728T223000Z
DTEND:20160729T001500Z
CATEGORIES:webinar
LOCATION:Houston
WEBSITE:https://store.aheconline.com/index.php?route=product/product&p
 ath=59_167_191&product_id=2434
URL:https://store.aheconline.com/index.php?route=product/product&path=
 59_167_191&product_id=2434
CONTACT:18002391361
ORGANIZER;CN="Larry Carney":https://community.radrounds.com/profile/La
 rryCarney
ATTACH;FMTTYPE="image/jpeg":
ATTENDEE;ROLE=REQ-PARTICIPANT;PARTSTAT=ACCEPTED;RSVP=TRUE;CN="Larry Ca
 rney":https://community.radrounds.com/profile/LarryCarney
END:VEVENT
END:VCALENDAR
