BEGIN:VCALENDAR
PRODID:NingEventWidget-v1
VERSION:2.0
METHOD:PUBLISH
BEGIN:VEVENT
UID:1791588:Event:59080
DTSTAMP:20260420T061259Z
SUMMARY:CT Fellowship - Clinical
DESCRIPTION:CT Fellowship - Clinical\nMonday, November 1, 2010 - Frida
 y, November 5, 2010\nHouston, TX\n\nMEETING SPONSOR:\n Advanced Health
  Education Center\n8502 Tybor Dr.\nHouston, TX 77074\nToll-Free 1-800-
 239-1361\n713-772-0157\nWebsite: http://www.aheconline.com\n\nCONFEREN
 CE CENTER:\n Advanced Health Education Center\n8502 Tybor Dr.\nHouston
 , TX 77074\nToll-Free 1-800-239-1361\n713-772-0157\nWebsite: http://ww
 w.aheconline.com\n\nMEETING BROCHURE:\n To view and print the meeting 
 brochure, click here:\nhttp://store.aheconline.com/DisplayDetail.aspx?
 pid=4488\n\nMEETING DESCRIPTION:\n CLINICAL FELLOWSHIP INFORMATION Adv
 anced Health Education Center offers clinical fellowship rotations as 
 an enhancement to the preceding theory course in the selected modality
 . AHEC offers clinical fellowships to registered radiographers (RT, R)
  In the modalities of Mammography, Computed Tomography, Magnetic Reson
 ance Imaging and Cardiovascular Radiography. Fellowships are conducted
  In the Houston, TX area in hospitals, imaging facilities and urgent c
 are facilities. The length of clinical fellowship training will vary b
 y the modality selected. **No CE credit is awarded for clinical hours.
  In order to receive a certificate documenting clinical attendance, te
 chnologists must return their timesheet and copies of their clinical c
 ompetency forms to the AHEC office via mail or fax to the attention of
  the respective fellowship coordinator. Modality Information MRI, CT, 
 CV Clinical Fellowship: 40 hours of clinical rotations (Monday-Friday)
  each week will give the technologist the opportunity to experience a 
 wide array of exams, be tutored by experienced advanced modality profe
 ssionals who provide insights, advice, and help you get the most out o
 f your training. Also, clinical fellowships will allow technologists t
 he opportunity to accrue some of their clinical experience (competenci
 es) for preparation for advanced modality examinations. Clinical rotat
 ions are based on a per week registration by the technologist. It is s
 trongly recommended attendance in clinical rotations be for the full w
 eeks offered. Register early; there is a limited number of clinical si
 tes available. It will enhance clinical experience if technologists co
 mmunicate their goals related to clinical training to the fellowship c
 oordinator. If you have specific requests regarding equipment preferen
 ce and/or software, please contact the AHEC clinical fellowship coordi
 nator related to these modalities. MRI, CT, and CV Fellowship Coordina
 tor: Rebecca Adams, RT,(R)(CV)(BD)(CBDT)-Program Manager Computed Tomo
 graphy Fellowship Clinical: (1-2 week option) Technologists are placed
  with an emphasis on providing experience when available on a CT syste
 m with the manufacturer, software and angiography needs requested. CT 
 fellowship clinicals will provide 40-80 hours of CT training. Clinical
  Fellowship Requirements Clinical Fellowship requires enrolled technol
 ogists to meet hospital and imaging center requirements as required by
  affiliation agreements and education departments. The following infor
 mation must be submitted to obtain a clinical site rotation assignment
 . Fellowship coordinators will contact enrolled technologists in advan
 ce of clinical rotations to secure appropriate documentation. Reliable
  email and/or telephone contact Information must be provided at time o
 f registration for the class. Failure to provide correct information w
 ill result in delay or failure of clinical placement. Required informa
 tion must be provided a minimum of three weeks prior to the first day 
 of the theory class. Minimum Clinical requirements Include: • A copy
  of current credentials and state licensure (If applicable). • Signe
 d Letter of Good Health on physician's letterhead.\n\nINSTRUCTORS:\nWi
 lson\n\nCME HOURS: 0\n\nLECTURE TOPICS:\n not listed\n\nFor more infor
 mation visit https://community.radrounds.com/events/ct-fellowship-clin
 ical-2
DTSTART:20101101T040000Z
DTEND:20101106T035900Z
CATEGORIES:fellowship, -, clinical
LOCATION:Advanced Health Education Center
WEBSITE:http://www.aheconline.com
URL:http://www.aheconline.com
CONTACT:713-772-0157
ORGANIZER:Advanced Health Education Center
ATTACH;FMTTYPE="image/jpeg":
ATTENDEE;ROLE=REQ-PARTICIPANT;PARTSTAT=ACCEPTED;RSVP=TRUE;CN="radRound
 s Radiology Events":https://community.radrounds.com/profile/radRoundsR
 adiologyEvents
END:VEVENT
END:VCALENDAR
