BEGIN:VCALENDAR
PRODID:NingEventWidget-v1
VERSION:2.0
METHOD:PUBLISH
BEGIN:VEVENT
UID:1791588:Event:158388
DTSTAMP:20260421T033127Z
SUMMARY:CT Exam Review
DESCRIPTION:Be prepared! Not a motto just for boy scouts! Whether an a
 dvanced level examination is in your future, or you would like to form
 alize your understanding of the theory and complex concepts of CT this
  workshop will benefit you. The workshop provides students with a thor
 ough review of CT theory as well as relevant clinical applications tha
 t can quickly be transferred to the workplace. The content is reflecti
 ve of the ARRT content specifications and provides ample opportunity f
 or students to interact with expert CT faculty with proven success in 
 preparing students for advanced level practice.  Course Topics Day 1 â
 €¢ Physics & Instrumentation â€¢ Patient Care â€¢ Imaging Procedures &
  Protocols â€¢ Contrast Media  Day 2 â€¢ Cross Sectional Anatomy â€¢ B
 asic Pathology â€¢ Case Studies â€¢ Artifacts\n\nFor more information 
 visit https://community.radrounds.com/events/ct-exam-review-2
DTSTART:20150926T040000Z
DTEND:20150928T035900Z
CATEGORIES:seminar
LOCATION:AHEC
WEBSITE:https://store.aheconline.com/index.php?route=product/product&f
 ilter_name=CT%20EXAM%20REVIEW&product_id=1750
URL:https://store.aheconline.com/index.php?route=product/product&filte
 r_name=CT%20EXAM%20REVIEW&product_id=1750
CONTACT:713-772-0157
ORGANIZER;CN="Larry Carney":https://community.radrounds.com/profile/La
 rryCarney
ATTACH;FMTTYPE="image/jpeg":
ATTENDEE;ROLE=REQ-PARTICIPANT;PARTSTAT=ACCEPTED;RSVP=TRUE;CN="Larry Ca
 rney":https://community.radrounds.com/profile/LarryCarney
END:VEVENT
END:VCALENDAR
