BEGIN:VCALENDAR
PRODID:NingEventWidget-v1
VERSION:2.0
METHOD:PUBLISH
BEGIN:VEVENT
UID:1791588:Event:190834
DTSTAMP:20260421T142914Z
SUMMARY:CT Contrast Agents Used Today (Live Webinar)
DESCRIPTION:Course Topics\nContrast Media\n\nTypes of Contrast Media\n
 Positive and Negative Contrast Media\nDose of Iodinated Contrast for P
 ediatric Patients\nConcentration, Osmolality and Viscocity\n\n\nHigh R
 isk Factors\nSevere Reactions\nUses of Indicated Drugs\n\nCourse Objec
 tives:\nAt the conclusion of the course the participant should be able
  to:\n\nExplain the difference between positive and negative contrast 
 media.\nList and give an example of the four methods of contrast media
  introduction.\nExplain the difference in ionic and non-ionic contrast
  agents\nDefine:\n\na. Concentration\nb. Osmolality\nc. Viscosity\nd. 
 Ionic\n\nIdentify which contrast agents are ionic and non-ionic.\nKnow
  the dose of iodinated contrast agents for pediatric patients.\nIdenti
 fy high risk factors in patients for contrast media injection.\nList t
 he systems affected by a severe contrast media reaction.\nKnow uses of
  the indicated drugs from the drug list.\n\n\nFor more information vis
 it https://community.radrounds.com/events/ct-contrast-agents-used-toda
 y-live-webinar-6
DTSTART:20190624T130000Z
DTEND:20190624T150000Z
CATEGORIES:live, webinar
LOCATION:Advanced Health Education Center
WEBSITE:http://store.aheconline.com
URL:http://store.aheconline.com
CONTACT:1(800) 239-1361
ORGANIZER:AHEC
ATTACH;FMTTYPE="image/jpeg":
ATTENDEE;ROLE=REQ-PARTICIPANT;PARTSTAT=ACCEPTED;RSVP=TRUE;CN="Larry Ca
 rney":https://community.radrounds.com/profile/LarryCarney
END:VEVENT
END:VCALENDAR
