BEGIN:VCALENDAR
PRODID:NingEventWidget-v1
VERSION:2.0
METHOD:PUBLISH
BEGIN:VEVENT
UID:1791588:Event:183823
DTSTAMP:20260420T012223Z
SUMMARY:CT Contrast Agents Used Today (Live Webinar)
DESCRIPTION:Course Topics\nContrast Media\n\nTypes of Contrast Media\n
 Positive and Negative Contrast Media\nDose of Iodinated Contrast for P
 ediatric Patients\nConcentration, Osmolality and Viscocity\n\n\nHigh R
 isk Factors\nSevere Reactions\nUses of Indicated Drugs\n\n\nFor more i
 nformation visit https://community.radrounds.com/events/ct-contrast-ag
 ents-used-today-live-webinar-2
DTSTART:20180928T130000Z
DTEND:20180928T150000Z
CATEGORIES:live, webinar
LOCATION:Advanced Health Education Center
WEBSITE:https://store.aheconline.com/
URL:https://store.aheconline.com/
CONTACT:800-239-1361
ORGANIZER;CN="Larry Carney":https://community.radrounds.com/profile/La
 rryCarney
ATTACH;FMTTYPE="image/jpeg":
ATTENDEE;ROLE=REQ-PARTICIPANT;PARTSTAT=ACCEPTED;RSVP=TRUE;CN="Larry Ca
 rney":https://community.radrounds.com/profile/LarryCarney
END:VEVENT
END:VCALENDAR
