BEGIN:VCALENDAR
PRODID:NingEventWidget-v1
VERSION:2.0
METHOD:PUBLISH
BEGIN:VEVENT
UID:1791588:Event:196306
DTSTAMP:20260423T144830Z
SUMMARY:CT Contrast Agents Used Today (Live Webinar)
DESCRIPTION:Contrast Media\n\nTypes of Contrast Media\nPositive and Ne
 gative Contrast Media\nDose of Iodinated Contrast for Pediatric Patien
 ts\nConcentration, Osmolality and Viscocity\n\n\nHigh Risk Factors\nSe
 vere Reactions\nUses of Indicated Drugs\n\nCourse Objectives:\nAt the 
 conclusion of the course the participant should be able to:\nExplain t
 he difference between positive and negative contrast media.\nList and 
 give an example of the four methods of contrast media introduction.\nE
 xplain the difference in ionic and non-ionic contrast agents\nDefine:\
 na. Concentration\nb. Osmolality\nc. Viscosity\nd. Ionic\nIdentify whi
 ch contrast agents are ionic and non-ionic.\nKnow the dose of iodinate
 d contrast agents for pediatric patients.\nIdentify high risk factors 
 in patients for contrast media injection.\nList the systems affected b
 y a severe contrast media reaction.\nKnow uses of the indicated drugs 
 from the drug list.\n\nFor more information visit https://community.ra
 drounds.com/events/ct-contrast-agents-used-today-live-webinar-15
DTSTART:20200227T140000Z
DTEND:20200227T160000Z
CATEGORIES:live, webinar
LOCATION:Advanced Health Education Center
WEBSITE:http://store.aheconline.com
URL:http://store.aheconline.com
CONTACT:1(800) 239-1361
ORGANIZER:AHEC
ATTACH;FMTTYPE="image/jpeg":
ATTENDEE;ROLE=REQ-PARTICIPANT;PARTSTAT=ACCEPTED;RSVP=TRUE;CN="Larry Ca
 rney":https://community.radrounds.com/profile/LarryCarney
END:VEVENT
END:VCALENDAR
