BEGIN:VCALENDAR
PRODID:NingEventWidget-v1
VERSION:2.0
METHOD:PUBLISH
BEGIN:VEVENT
UID:1791588:Event:168758
DTSTAMP:20260421T043813Z
SUMMARY:CT Prep and Exam Review (Live Simulcast)
DESCRIPTION:Course Topics\nDay 1\n\nCT Instrumentation (Including: Rad
 iation Physics and Informatics)\nCT Physics (Including: Reconstruction
 , Data Acquisition, Image Display, and Processing with Post-Processing
 )\nCT Image Quality (Including Artifacts)\n\nDay 2\n\nPatient Care (In
 cluding Radiation Safety)\nCT Procedures\nCT Anatomy and Pathology\n\n
 \nFor more information visit https://community.radrounds.com/events/ct
 -comprehensive-overview-live-simulcast
DTSTART:20170603T130000Z
DTEND:20170604T203000Z
CATEGORIES:simulcast
LOCATION:Advanced Health Education Center
WEBSITE:https://store.aheconline.com/index.php?route=product/product&p
 ath=59&product_id=2646
URL:https://store.aheconline.com/index.php?route=product/product&path=
 59&product_id=2646
CONTACT:1-800-239-1361
ORGANIZER;CN="Larry Carney":https://community.radrounds.com/profile/La
 rryCarney
ATTACH;FMTTYPE="image/jpeg":
ATTENDEE;ROLE=REQ-PARTICIPANT;PARTSTAT=ACCEPTED;RSVP=TRUE;CN="Larry Ca
 rney":https://community.radrounds.com/profile/LarryCarney
END:VEVENT
END:VCALENDAR
