BEGIN:VCALENDAR
PRODID:NingEventWidget-v1
VERSION:2.0
METHOD:PUBLISH
BEGIN:VEVENT
UID:1791588:Event:167823
DTSTAMP:20260421T014416Z
SUMMARY:CT Comprehensive Overview
DESCRIPTION:Course Topics\nDay 1\n\nCT Instrumentation (Including: Rad
 iation Physics and Informatics)\nCT Physics (Including: Reconstruction
 , Data Acquisition, Image Display, and Processing with Post-Processing
 )\nCT Image Quality (Including Artifacts)\n\nDay 2\n\nPatient Care (In
 cluding Radiation Safety)\nCT Procedures\nCT Anatomy and Pathology\n\n
 \nFor more information visit https://community.radrounds.com/events/ct
 -comprehensive-overview-3
DTSTART:20160820T130000Z
DTEND:20160821T203000Z
CATEGORIES:live, event
LOCATION:Houston
WEBSITE:https://store.aheconline.com/index.php?route=product/product&p
 ath=59&product_id=2502
URL:https://store.aheconline.com/index.php?route=product/product&path=
 59&product_id=2502
CONTACT:18002391361
ORGANIZER;CN="Larry Carney":https://community.radrounds.com/profile/La
 rryCarney
ATTACH;FMTTYPE="image/jpeg":
ATTENDEE;ROLE=REQ-PARTICIPANT;PARTSTAT=ACCEPTED;RSVP=TRUE;CN="Larry Ca
 rney":https://community.radrounds.com/profile/LarryCarney
END:VEVENT
END:VCALENDAR
