BEGIN:VCALENDAR
PRODID:NingEventWidget-v1
VERSION:2.0
METHOD:PUBLISH
BEGIN:VEVENT
UID:1791588:Event:167706
DTSTAMP:20260421T005525Z
SUMMARY:CT Comprehensive Overview
DESCRIPTION:Day 1\n\nCT Instrumentation (Including: Radiation Physics 
 and Informatics)\nCT Physics (Including: Reconstruction, Data Acquisit
 ion, Image Display, and Processing with Post-Processing)\nCT Image Qua
 lity (Including Artifacts)\n\nDay 2\n\nPatient Care (Including Radiati
 on Safety)\nCT Procedures\nCT Anatomy and Pathology\n\n\nFor more info
 rmation visit https://community.radrounds.com/events/ct-comprehensive-
 overview-1
DTSTART:20160604T130000Z
DTEND:20160605T203000Z
CATEGORIES:simulcast
LOCATION:Houston
WEBSITE:https://store.aheconline.com/index.php?route=product/product&p
 ath=59_167&product_id=2505
URL:https://store.aheconline.com/index.php?route=product/product&path=
 59_167&product_id=2505
CONTACT:1-800-239-1361
ORGANIZER;CN="Larry Carney":https://community.radrounds.com/profile/La
 rryCarney
ATTACH;FMTTYPE="image/jpeg":
ATTENDEE;ROLE=REQ-PARTICIPANT;PARTSTAT=ACCEPTED;RSVP=TRUE;CN="Larry Ca
 rney":https://community.radrounds.com/profile/LarryCarney
END:VEVENT
END:VCALENDAR
