BEGIN:VCALENDAR
PRODID:NingEventWidget-v1
VERSION:2.0
METHOD:PUBLISH
BEGIN:VEVENT
UID:1791588:Event:116516
DTSTAMP:20260423T001313Z
SUMMARY:CT Colonography
DESCRIPTION:CT Colonography Thursday, May 17, 2012 - Friday, May 18, 2
 012American College of Radiology (ACR) Reston, Virginia (VA), United S
 tatesProvided by American College of Radiology (ACR)  CME Provider: Am
 erican College of Radiology (ACR) 1891 Preston White DriveReston, Virg
 inia (VA) 20191United States\nToll Free: (800) 373-2204Phone: (800) 37
 3-2204\n\nConference Center:American College of Radiology (ACR) ACR Ed
 ucation Center1891 Preston White DriveReston, Virginia (VA) 20191Unite
 d States\nToll Free: (800) 373-2204Phone: (800) 373-2204\n Description
 :CT Colonography (CTC) is an evolving technique with considerable pote
 ntial for widespread screening of colorectal cancer. Application of ap
 propriate techniques and knowledge of correct interpretation skills ar
 e vital to successfully implementing this technique. The goal of this 
 two-day course is to educate attendees in the technique, performance, 
 and interpretation of CTC through the supervised review of a minimum o
 f 50 cases. The course will also provide a forum for discussing resear
 ch initiatives, regulatory issues, and the reimbursement environment.\
 nSelf Assessment Module (SAM): Yes\nInstructors:Matthew Barish, MDDire
 ctor, International Symposia on Virtual ColonoscopyCo-Director, Body a
 nd Imaging and Director, MRISUNY Stony Brook, Stony Brook, NY\nSpecial
 ty Audience:Radiology\n\nFor more information visit https://community.
 radrounds.com/events/ct-colonography-4
DTSTART:20120517T040000Z
DTEND:20120519T035900Z
CATEGORIES:radiology
LOCATION:American College of Radiology (ACR)
WEBSITE:http://www.acr.org/educenter
URL:http://www.acr.org/educenter
CONTACT:(800) 373-2204
ORGANIZER:American College of Radiology (ACR)
ATTACH;FMTTYPE="image/jpeg":
ATTENDEE;ROLE=REQ-PARTICIPANT;PARTSTAT=ACCEPTED;RSVP=TRUE;CN="radRound
 s Radiology Events":https://community.radrounds.com/profile/radRoundsR
 adiologyEvents
END:VEVENT
END:VCALENDAR
