BEGIN:VCALENDAR
PRODID:NingEventWidget-v1
VERSION:2.0
METHOD:PUBLISH
BEGIN:VEVENT
UID:1791588:Event:116322
DTSTAMP:20260423T185711Z
SUMMARY:CT 201: Clinical Applications
DESCRIPTION:CT 201: Clinical Applications Saturday, March 24, 2012 - S
 aturday, March 24, 2012Best Western Grosvenor San Francisco Hotel San 
 Francisco, California (CA), United StatesProvided by Advanced Health E
 ducation Center  CME Provider: Advanced Health Education Center 8502 T
 ybor DriveHouston, Texas (TX) 77074United States\nToll Free: (800) 239
 -1361Phone: (713) 772-0157Fax: (713) 772-0155\n\nConference Center:Bes
 t Western Grosvenor San Francisco Hotel 380 South Airport Blvd.San Fra
 ncisco, California (CA) 94080United States\nToll Free: (800) 722-7141P
 hone: (650) 873-3200Fax: (650) 589-3495\nDescription:This course follo
 ws CT: 101 but may be taken independently and is an excellent choice f
 or an experienced CT technologist searching for a good CE course. Emph
 asis will be in the clinical applications of computed tomography as th
 ey pertain to radiation safety, patient care, contrast media, imaging 
 procedures and protocols. Radiation Safety is a \"hot topic\" in CT im
 aging today and you will receive the most updated information, as well
  as what you can do as a technologist to minimize your patient's expos
 ure.\nCase studies will be used to provide a comprehensive review of g
 eneral protocols, scanography, slice orientation, IV contrast, Slice t
 hickness and range, kernel and display factors, and normal vs. abnorma
 l studies of the commonly performed CT procedures. The day will conclu
 de with a look into the more advanced computed tomography technology a
 nd applications of Cardiac, Perfusion, and Dual-Source/Dual Energy CT.
  Whether you combine this course with the CT 101: Theory, or only join
  us for this one day CT course, you will enhance your imaging skills f
 eel more confident about performing CT procedures.\nCourse Topics â€¢ 
 Radiation Safety and Current Topicsâ€¢ Contrast Media â€¢ CT Scanningâ
 €¢ Head and Neckâ€¢ Chestâ€¢ Abdomen & Pelvisâ€¢ Spineâ€¢ Post Process
 ing Techniques and Applicationsâ€¢ Advanced CT Technology and Applicat
 ions\nSelf Assessment Module (SAM): No\nInstructors:Bradley Holmer, AS
 , RT(R)(CT)\nSpecialty Audience:Radiology\n\nFor more information visi
 t https://community.radrounds.com/events/ct-201-clinical-applications-
 2
DTSTART:20120324T040000Z
DTEND:20120325T035900Z
CATEGORIES:radiology
LOCATION:Best Western Grosvenor San Francisco Hotel
WEBSITE:http://www.grosvenorsfo.com/
URL:http://www.grosvenorsfo.com/
CONTACT:Advanced Health Education Center
ORGANIZER;CN="radRounds Radiology Events":https://community.radrounds.
 com/profile/radRoundsRadiologyEvents
ATTACH;FMTTYPE="image/jpeg":
ATTENDEE;ROLE=REQ-PARTICIPANT;PARTSTAT=ACCEPTED;RSVP=TRUE;CN="radRound
 s Radiology Events":https://community.radrounds.com/profile/radRoundsR
 adiologyEvents
END:VEVENT
END:VCALENDAR
