BEGIN:VCALENDAR
PRODID:NingEventWidget-v1
VERSION:2.0
METHOD:PUBLISH
BEGIN:VEVENT
UID:1791588:Event:115265
DTSTAMP:20260425T082650Z
SUMMARY:CT 101 : Theory
DESCRIPTION:CT 101 : Theory Saturday, January 21, 2012 - Saturday, Jan
 uary 21, 2012Holiday Inn Saddlebrook, New Jersey (NJ), United StatesPr
 ovided by Advanced Health Education Center  CME Provider: Advanced Hea
 lth Education Center 8502 Tybor DriveHouston, Texas (TX) 77074United S
 tates\nToll Free: (800) 239-1361Phone: (713) 772-0157Fax: (713) 772-01
 55\n\nConference Center:Holiday Inn 129 Pehle AvenueSaddlebrook, New J
 ersey (NJ) 07663United States\nPhone: 201-845-7800Fax: (201) 845-7061\
 nDescription:Back by popular demand! We have had many request for the 
 popular CT 101/CT 201 series of CE courses and have returned them to o
 ur scheudule. You will have the flexibility to register for one or bot
 h courses depending on your individual needs. Ease into the high tech 
 world of CT and learn the \"need to know\" information from one of our
  expert CT trainers. Whether you are cross training into this imaging 
 specialty, formalizing education for documentation for your facilityâ€
 ™s accreditation, or preparing for the CT Registry, you will benefit f
 rom this course. It isn't enough to just learn to push the buttons! Yo
 u will learn the critical thinking skills needed for the various types
  of procedures and challenges.\nCourse Topicsâ€˘ CT: The Imaging Modal
 ity of Choiceâ€˘ CT Physics and Instrumentationâ€˘ Basics of Data Acqu
 isitionâ€˘ Basics of Data Processing and Image Displayâ€˘ Helical and 
 Multi-slice Scanningâ€˘ Review of Technologist Controlled Parameters a
 nd Selection Criteriaâ€˘ Minimizing CT Image Artifactsâ€˘ lled Paramet
 ers and Selection Criteriaâ€˘ Minimizing CT Image Artifacts\nSelf Asse
 ssment Module (SAM): No\nInstructors:Steve Ahrenstein, BS, RT(R)(CT)\n
 Specialty Audience:Radiology\n\nFor more information visit https://com
 munity.radrounds.com/events/ct-101-theory
DTSTART:20120121T050000Z
DTEND:20120122T045900Z
CATEGORIES:radiology
LOCATION:Holiday Inn
WEBSITE:http://hisaddlebrooknj.com/
URL:http://hisaddlebrooknj.com/
CONTACT:201-845-7800
ORGANIZER:Advanced Health Education Center
ATTACH;FMTTYPE="image/jpeg":
ATTENDEE;ROLE=REQ-PARTICIPANT;PARTSTAT=ACCEPTED;RSVP=TRUE;CN="radRound
 s Radiology Events":https://community.radrounds.com/profile/radRoundsR
 adiologyEvents
END:VEVENT
END:VCALENDAR
