BEGIN:VCALENDAR
PRODID:NingEventWidget-v1
VERSION:2.0
METHOD:PUBLISH
BEGIN:VEVENT
UID:1791588:Event:116320
DTSTAMP:20260421T140617Z
SUMMARY:CT 101 : Theory
DESCRIPTION:CT 101 : Theory Friday, March 23, 2012 - Friday, March 23,
  2012Best Western Grosvenor San Francisco Hotel San Francisco, Califor
 nia (CA), United StatesProvided by Advanced Health Education Center  C
 ME Provider: Advanced Health Education Center 8502 Tybor DriveHouston,
  Texas (TX) 77074United States\nToll Free: (800) 239-1361Phone: (713) 
 772-0157Fax: (713) 772-0155\n\nConference Center:Best Western Grosveno
 r San Francisco Hotel 380 South Airport Blvd.San Francisco, California
  (CA) 94080United States\nToll Free: (800) 722-7141Phone: (650) 873-32
 00Fax: (650) 589-3495\nDescription:Back by popular demand! We have had
  many request for the popular CT 101/CT 201 series of CE courses and h
 ave returned them to our scheudule. You will have the flexibility to r
 egister for one or both courses depending on your individual needs. Ea
 se into the high tech world of CT and learn the \"need to know\" infor
 mation from one of our expert CT trainers. Whether you are cross train
 ing into this imaging specialty, formalizing education for documentati
 on for your facilityâ€™s accreditation, or preparing for the CT Regist
 ry, you will benefit from this course. It isn't enough to just learn t
 o push the buttons! You will learn the critical thinking skills needed
  for the various types of procedures and challenges.\nCourse Topicsâ€¢
  CT: The Imaging Modality of Choiceâ€¢ CT Physics and Instrumentationâ
 €¢ Basics of Data Acquisitionâ€¢ Basics of Data Processing and Image D
 isplayâ€¢ Helical and Multi-slice Scanningâ€¢ Review of Technologist C
 ontrolled Parameters and Selection Criteriaâ€¢ Minimizing CT Image Art
 ifactsâ€¢ lled Parameters and Selection Criteriaâ€¢ Minimizing CT Imag
 e Artifacts\nSelf Assessment Module (SAM): No\nInstructors:Bradley Hol
 mer, AS, RT(R)(CT)\nSpecialty Audience:Radiology\n\nFor more informati
 on visit https://community.radrounds.com/events/ct-101-theory-2
DTSTART:20120323T040000Z
DTEND:20120324T035900Z
CATEGORIES:radiology
LOCATION:Best Western Grosvenor San Francisco Hotel
WEBSITE:http://www.grosvenorsfo.com/
URL:http://www.grosvenorsfo.com/
CONTACT:(650) 873-3200
ORGANIZER:Advanced Health Education Center
ATTACH;FMTTYPE="image/jpeg":
ATTENDEE;ROLE=REQ-PARTICIPANT;PARTSTAT=ACCEPTED;RSVP=TRUE;CN="radRound
 s Radiology Events":https://community.radrounds.com/profile/radRoundsR
 adiologyEvents
END:VEVENT
END:VCALENDAR
