BEGIN:VCALENDAR
PRODID:NingEventWidget-v1
VERSION:2.0
METHOD:PUBLISH
BEGIN:VEVENT
UID:1791588:Event:116280
DTSTAMP:20260422T095142Z
SUMMARY:\"CSI Radiology\" Forensic Case Studies in Radiology
DESCRIPTION:\"CSI Radiology\" Forensic Case Studies in Radiology Satur
 day, May 05, 2012 - Saturday, May 05, 2012Advanced Health Education Ce
 nter Houston, Texas (TX), United StatesProvided by Advanced Health Edu
 cation Center  CME Provider: Advanced Health Education Center 8502 Tyb
 or DriveHouston, Texas (TX) 77074United States\nToll Free: (800) 239-1
 361Phone: (713) 772-0157Fax: (713) 772-0155\n\nConference Center:Advan
 ced Health Education Center 8502 Tybor DriveHouston, Texas (TX) 77074U
 nited States\nPhone: (800) 239-1361\n Description:Enter the real world
  of forensics and discover how medical imaging is used! Medical imagin
 g in forensics ranges fromanalyzing evidence from a crime scene to vir
 tual autopsies. Forensic pathologists and medical examiners are using 
 imaging to solve the mysteries that cannot be observed with the human 
 eye.\nDr. Brown will present actual case studies and demonstrate the u
 se of forensic imaging to help unlock the secrets that provide answers
  to help our legal system determine the manner of death natural, accid
 ental, or criminal. Don’t miss this outstanding opportunity to study
  with Daniel K. Brown, M.D., Medical Examiner for the Georgia Bureau o
 f Investigation.\nCourse Topics • Imaging Modalities in Forensic Inv
 estigation• Firearm injuries• Sharp force injuries• Blunt force 
 injuries• Explosive injuries• Fire deaths• Drug deaths• Electr
 ocutions • Identification of Human Remains • Virtual Autopsy\nSelf
  Assessment Module (SAM): No\nInstructors:Daniel Brown, M.D., MD\nSpec
 ialty Audience:Radiology\n\nFor more information visit https://communi
 ty.radrounds.com/events/csi-radiology-forensic-case-studies-in-radiolo
 gy
DTSTART:20120505T220000Z
DTEND:20120505T230000Z
CATEGORIES:radiology
LOCATION:Advanced Health Education Center
WEBSITE:http://aheconline.com/
URL:http://aheconline.com/
CONTACT:(800) 239-1361
ORGANIZER:Advanced Health Education Center
ATTACH;FMTTYPE="image/jpeg":
ATTENDEE;ROLE=REQ-PARTICIPANT;PARTSTAT=ACCEPTED;RSVP=TRUE;CN="radRound
 s Radiology Events":https://community.radrounds.com/profile/radRoundsR
 adiologyEvents
END:VEVENT
END:VCALENDAR
