BEGIN:VCALENDAR
PRODID:NingEventWidget-v1
VERSION:2.0
METHOD:PUBLISH
BEGIN:VEVENT
UID:1791588:Event:183267
DTSTAMP:20260424T010910Z
SUMMARY:Cross Sectional Anatomy and High Tech Pathogens (Live Webinar)
DESCRIPTION:Course Topics:\nCross-sectional Anatomy Review\n\nBrain\nC
 hest\nAbdomen\n\nIs Hi Tech Health Care Making You Sick?\n\nThe Newest
  Dangers in the Hospital Environment\nBacteria Fingerprints and Electr
 onic Devices\nAre Healthcare Professionals Walking Pathogens?\nFundame
 ntal Rules of Hygiene\n\nProtecting Religious Beliefs in Healthcare\n\
 nPolicies and Procedures in Healthcare Organizations\nLegal Issues and
  Patient Rights\n\n\nFor more information visit https://community.radr
 ounds.com/events/cross-sectional-anatomy-and-high-tech-pathogens-live-
 webinar-2
DTSTART:20180830T130000Z
DTEND:20180830T160000Z
CATEGORIES:live, webinar
LOCATION:Advanced Health Education Center
WEBSITE:https://store.aheconline.com/
URL:https://store.aheconline.com/
CONTACT:800-239-1361
ORGANIZER;CN="Larry Carney":https://community.radrounds.com/profile/La
 rryCarney
ATTACH;FMTTYPE="image/jpeg":
ATTENDEE;ROLE=REQ-PARTICIPANT;PARTSTAT=ACCEPTED;RSVP=TRUE;CN="Larry Ca
 rney":https://community.radrounds.com/profile/LarryCarney
END:VEVENT
END:VCALENDAR
