BEGIN:VCALENDAR
PRODID:NingEventWidget-v1
VERSION:2.0
METHOD:PUBLISH
BEGIN:VEVENT
UID:1791588:Event:183339
DTSTAMP:20260425T150012Z
SUMMARY:Cross Sectional Anatomy and High Tech Pathogens (Live Webinar)
DESCRIPTION:Cross-sectional Anatomy Review\n\nBrain\nChest\nAbdomen\n\
 nIs Hi Tech Health Care Making You Sick?\n\nThe Newest Dangers in the 
 Hospital Environment\nBacteria Fingerprints and Electronic Devices\nAr
 e Healthcare Professionals Walking Pathogens?\nFundamental Rules of Hy
 giene\n\nProtecting Religious Beliefs in Healthcare\n\nPolicies and Pr
 ocedures in Healthcare Organizations\nLegal Issues and Patient Rights\
 n\n\nFor more information visit https://community.radrounds.com/events
 /cross-sectional-anatomy-amp-high-tech-pathogens-live-webinar
DTSTART:20180802T220000Z
DTEND:20180803T010000Z
CATEGORIES:live, webinar
LOCATION:Advanced Health Education Center
WEBSITE:https://store.aheconline.com/
URL:https://store.aheconline.com/
CONTACT:800-239-1361
ORGANIZER;CN="Larry Carney":https://community.radrounds.com/profile/La
 rryCarney
ATTACH;FMTTYPE="image/jpeg":
ATTENDEE;ROLE=REQ-PARTICIPANT;PARTSTAT=ACCEPTED;RSVP=TRUE;CN="Larry Ca
 rney":https://community.radrounds.com/profile/LarryCarney
END:VEVENT
END:VCALENDAR
