BEGIN:VCALENDAR
PRODID:NingEventWidget-v1
VERSION:2.0
METHOD:PUBLISH
BEGIN:VEVENT
UID:1791588:Event:116363
DTSTAMP:20260421T190958Z
SUMMARY:Coronary CTA - Revolutionizing Cardiac Care
DESCRIPTION:Coronary CTA - Revolutionizing Cardiac Care Saturday, Apri
 l 28, 2012 - Sunday, April 29, 2012The Inverness Hotel and Conference 
 Center Englewood, Colorado (CO), United StatesProvided by Radiology Im
 aging Associates  CME Provider: Radiology Imaging Associates Hedi Arno
 ld8200 E. Belleview Suite 200EGreenwood Village, Colorado (CO) 80111Un
 ited States\nPhone: (303) 249-0860Fax: (720) 874-4427\n\nConference Ce
 nter:The Inverness Hotel and Conference Center 200 Inverness Drive Wes
 tEnglewood, Colorado (CO) 80112United States\nToll Free: 800-832-9053P
 hone: 303-799-5800\n Description:This course prepares participants to 
 perform Coronary CTA at the highest level of expertise by covering all
  aspects of this new imaging modality, including image acquisition, pr
 e-medication, interpretive technique, structured reporting, anatomy, a
 nd pathology. Recent cases will be discussed with hands-on practice.\n
 Self Assessment Module (SAM): No\nInstructors:Simeon Abramson, MD, Cou
 rse Director; Jeffrey Boone, M.D, Matthew Fleishman, M.D., Jason Kelly
 , M.D., George Pachello, M.D., Stanley Smazal, M.D., Andrew Trovinger,
  RT(R)(MR)(CT)(CV)\nSpecialty Audience:Internal MedicineRadiology\n\nF
 or more information visit https://community.radrounds.com/events/coron
 ary-cta-revolutionizing-cardiac-care-1
DTSTART:20120428T040000Z
DTEND:20120430T035900Z
CATEGORIES:radiology
LOCATION:The Inverness Hotel and Conference Center
WEBSITE:http://www.invernesshotel.com/
URL:http://www.invernesshotel.com/
CONTACT:303-799-5800
ORGANIZER:Radiology Imaging Associates
ATTACH;FMTTYPE="image/jpeg":
ATTENDEE;ROLE=REQ-PARTICIPANT;PARTSTAT=ACCEPTED;RSVP=TRUE;CN="radRound
 s Radiology Events":https://community.radrounds.com/profile/radRoundsR
 adiologyEvents
END:VEVENT
END:VCALENDAR
