BEGIN:VCALENDAR
PRODID:NingEventWidget-v1
VERSION:2.0
METHOD:PUBLISH
BEGIN:VEVENT
UID:1791588:Event:73159
DTSTAMP:20260425T221559Z
SUMMARY:Coronary CTA - Revolutionizing Cardiac Care
DESCRIPTION:Coronary CTA - Revolutionizing Cardiac Care\n\nCoronary CT
 A Interpretive Course - Interpret 100 cases\n\nThis 2-day course deliv
 ers in-depth and hands-on exposure to the technique of interpreting Co
 ronary CTA. Designed and taught by radiologists with no vendor bias, t
 he course provides the additional training required to proactively tra
 nslate this powerful, new tool into the effective treatment of cardiov
 ascular disease.\n\nPhysician participants will independently process 
 and interpret Coronary CTA cases at dedicated 3D workstations.\n\n• 
 Earn 100 case interpretive certificate\n• 20 hours of Category 1 CME
  credits\n• Tuition includes a case-based on-line cardiac training m
 odule with 50 additional cases housed at www.CardiacTraining.com (with
  an option for an additional 10 CME credits)\n\nContact Information\nF
 ax 720-874-4427\nEmail coronarycta@riaco.com\nAddress Attn: Hedi Arnol
 d\nRadiology Imaging Associates\n8200 E Belleview Ste 200E\nGreenwood 
 Village CO 80111\n\nAccreditation\n\nHealthONE CME is accredited by th
 e Accreditation Council for Continuing Medical Education to provide Co
 ntinuing Medical Education for physicians.\n\nThe HealthONE CME Commit
 tee designates this educational activity for up to 20 hours in categor
 y 1 credit towards the AMA Physician’s Recognition Award. Each physi
 cian should claim only the number of credits that he/she actually spen
 t in the educational activity.\n\nFor more information visit https://c
 ommunity.radrounds.com/events/coronary-cta-revolutionizing-5
DTSTART:20111022T040000Z
DTEND:20111024T035900Z
CATEGORIES:course
LOCATION:The Inverness Hotel and Conference Center
WEBSITE:http://www.riainvision.com/educ/ccta/coronarycta.aspx
URL:http://www.riainvision.com/educ/ccta/coronarycta.aspx
CONTACT:
ORGANIZER:Radiology Imaging Associates
ATTACH;FMTTYPE="image/jpeg":
ATTENDEE;ROLE=REQ-PARTICIPANT;PARTSTAT=ACCEPTED;RSVP=TRUE;CN="radRound
 s Radiology Events":https://community.radrounds.com/profile/radRoundsR
 adiologyEvents
END:VEVENT
END:VCALENDAR
