BEGIN:VCALENDAR
PRODID:NingEventWidget-v1
VERSION:2.0
METHOD:PUBLISH
BEGIN:VEVENT
UID:1791588:Event:162134
DTSTAMP:20260421T083409Z
SUMMARY:Coronary CTA in the Emergency Department: Seventh Annual Hands
 -on Workshop
DESCRIPTION:Master the skills necessary to interpret coronary CT angio
 graphy by attending the Baptist Health Coronary CTA Hands-on Workshop.
  This comprehensive workshop features a variety of excellent cardiac c
 ases, coronary and cardiac anatomy, standard imaging planes and workst
 ation operations. Course Director Ricardo Cury, M.D., is the director 
 of cardiac imaging at one of the highest-volume programs in the countr
 y and has written more than 100 peer-reviewed publications in the fiel
 d.\nThe workshop will conclude with a 4.25-hour didactic session on co
 ronary imaging\n\nFor more information visit https://community.radroun
 ds.com/events/coronary-cta-in-the-emergency-department-seventh-annual-
 hands-on
DTSTART:20151114T120000Z
DTEND:20151116T000000Z
CATEGORIES:continuing, medical, education
LOCATION:Fontainebleau Hotel
WEBSITE:http://CTAMiami.BaptistHealth.net
URL:http://CTAMiami.BaptistHealth.net
CONTACT:786-596-2398
ORGANIZER:Baptist Health South Florida
ATTACH;FMTTYPE="image/jpeg":
ATTENDEE;ROLE=REQ-PARTICIPANT;PARTSTAT=ACCEPTED;RSVP=TRUE;CN="Julie Zi
 mmett":https://community.radrounds.com/profile/JulieZimmett
END:VEVENT
END:VCALENDAR
