BEGIN:VCALENDAR
PRODID:NingEventWidget-v1
VERSION:2.0
METHOD:PUBLISH
BEGIN:VEVENT
UID:1791588:Event:193355
DTSTAMP:20260420T153526Z
SUMMARY:Coronary CTA in the Emergency Department: A Hands-On Workshop
DESCRIPTION:15.25 AMA PRA Category 1 Credits\nFormerly organized by Ba
 ptist Health South Florida. Course Director: Ricardo C. Cury, MD, FSCC
 T.  Four-hour didactic session on Chest Pain Patient Assessment in th
 e Emergency Department followed by a hands-on workshop utilizing dedic
 ated workstations to review over 50 supervised coronary CTA cases of a
 cute chest pain in the ER.\n\nRegister: https://mednax.cloud-cme.com/
 default.aspx?P=0&EID=194\n\nFor more information visit https://communi
 ty.radrounds.com/events/coronary-cta-in-the-emergency-department-a-han
 ds-on-workshop
DTSTART:20191109T121500Z
DTEND:20191110T230000Z
CATEGORIES:cme, conference
LOCATION:Boca Raton Resort and Club
WEBSITE:
URL:
CONTACT:
ORGANIZER:MEDNAX Radiology Education
ATTACH;FMTTYPE="image/jpeg":https://storage.ning.com/topology/rest/1.0
 /file/get/3553367209?profile=original
ATTENDEE;ROLE=REQ-PARTICIPANT;PARTSTAT=ACCEPTED;RSVP=TRUE;CN="Brian Sc
 hmidt":https://community.radrounds.com/profile/BrianSchmidt
END:VEVENT
END:VCALENDAR
