BEGIN:VCALENDAR
PRODID:NingEventWidget-v1
VERSION:2.0
METHOD:PUBLISH
BEGIN:VEVENT
UID:1791588:Event:165476
DTSTAMP:20260422T131213Z
SUMMARY:Contrast study day and essential physics for FRCR
DESCRIPTION:This course is designed to demonstrate how contrast media 
 work in a variety of established imaging techniques, to understand the
  reasons behind the choice of contrast for each procedure and the risk
  and benefits of each contrast agent.  It will benefit trainees in rad
 iology and established consultant radiologists wishing to keep abreast
  of the new contrast agents, and their use with established and new im
 aging techniques. The course will also act as essential CPD for radiog
 raphers working in any of the imaging disciplines.\n\nFor more informa
 tion visit https://community.radrounds.com/events/contrast-study-day-a
 nd-essential-physics-for-frcr
DTSTART:20160121T133000Z
DTEND:20160122T220000Z
CATEGORIES:conference
LOCATION:Manchester Meeting Place
WEBSITE:https://www.google.com/maps/place/Manchester+Meeting+Place,+Ma
 nchester+M1+3AL,+UK/@53.474792,-2.23254,16z/data=!4m2!3m1!1s0x487bb194
 314380af:0xa41d1a8012ab2ac3?hl=en-US
URL:https://www.google.com/maps/place/Manchester+Meeting+Place,+Manche
 ster+M1+3AL,+UK/@53.474792,-2.23254,16z/data=!4m2!3m1!1s0x487bb1943143
 80af:0xa41d1a8012ab2ac3?hl=en-US
CONTACT:020 3764 5710
ORGANIZER:Daniel Hooper
ATTACH;FMTTYPE="image/jpeg":
ATTENDEE;ROLE=REQ-PARTICIPANT;PARTSTAT=ACCEPTED;RSVP=TRUE;CN="Rebecca 
 Groves":https://community.radrounds.com/profile/RebeccaGroves
END:VEVENT
END:VCALENDAR
