BEGIN:VCALENDAR
PRODID:NingEventWidget-v1
VERSION:2.0
METHOD:PUBLISH
BEGIN:VEVENT
UID:1791588:Event:183515
DTSTAMP:20260425T120837Z
SUMMARY:Considerations and Special Patients in Mammography (Live Webin
 ar)
DESCRIPTION:Course Topics:\n\n·         Understanding BRACA 1
  and 2 – 50 minutes\n\no   What is BRACA 1 and 2\no   High Risk 
 People\no   Treatment Before Cancer\no   Case Studies and Statisti
 cs\n\n·         Breast Cancer in Young Women – 50 minutes\n
 \no   Statistically: How many Young Women get Breast Cancer?\no   
 Most Common Types of Breast CA in Young Women\no   Treatment Variati
 ons\no   Complications\no   Case Studies\n\n·         Men
  Get Breast Cancer Too\n\no   Statistics for men having breast cance
 r\no   Treatment variations for men\n\nFor more information visit ht
 tps://community.radrounds.com/events/considerations-and-special-patien
 ts-in-mammography-live-webinar
DTSTART:20180802T130000Z
DTEND:20180802T160000Z
CATEGORIES:live, webinar
LOCATION:Advanced Health Education Center
WEBSITE:https://store.aheconline.com/
URL:https://store.aheconline.com/
CONTACT:800-239-1361
ORGANIZER;CN="Larry Carney":https://community.radrounds.com/profile/La
 rryCarney
ATTACH;FMTTYPE="image/jpeg":
ATTENDEE;ROLE=REQ-PARTICIPANT;PARTSTAT=ACCEPTED;RSVP=TRUE;CN="Larry Ca
 rney":https://community.radrounds.com/profile/LarryCarney
END:VEVENT
END:VCALENDAR
