BEGIN:VCALENDAR
PRODID:NingEventWidget-v1
VERSION:2.0
METHOD:PUBLISH
BEGIN:VEVENT
UID:1791588:Event:190731
DTSTAMP:20260421T181739Z
SUMMARY:Considerations and Special Patients in Mammography (Live Webin
 ar)
DESCRIPTION:Course Topics:\n\nUnderstanding BRACA 1 and 2 - 50 minutes
 \nWhat is BRACA 1 and 2\nTreatment Before Cancer\nCase Study and Stati
 stics\n\n\nBreast Cancer Screening\nStatistically: How many young wome
 n get breast cancer?\nMost common type of breast CA in Young Women\nTr
 eatment Variatiations\nComplications\nCase Study\n\n\n\n\nCourse Objec
 tives\n\nDiscuss BRACA 1 and 2 and what they mean\nIdentify who is at 
 risk from the BRACA 1 or 2 gene(s)\nDiscuss the types of testing for B
 RACA gene(s)\nName at least one type of treatment that is used for wom
 en with BRACA genes that do not have cancer...yet\nGive the statistics
  for getting breast cancer before the age of 40\nIdentify the most com
 mon type of breast cancer in young women\nDescribe treatment differenc
 es for young women and why some treatments are more likely to be avoid
 ed\nGive the statistics for men getting breast cancer\nDiscuss treatme
 nt variations for men\n\n\nFor more information visit https://communit
 y.radrounds.com/events/considerations-and-special-patients-in-mammogra
 phy-live-webinar-9
DTSTART:20190627T130000Z
DTEND:20190627T160000Z
CATEGORIES:live, webinar
LOCATION:Advanced Health Education Center
WEBSITE:http://store.aheconline.com
URL:http://store.aheconline.com
CONTACT:1(800) 239-1361
ORGANIZER:AHEC
ATTACH;FMTTYPE="image/jpeg":
ATTENDEE;ROLE=REQ-PARTICIPANT;PARTSTAT=ACCEPTED;RSVP=TRUE;CN="Larry Ca
 rney":https://community.radrounds.com/profile/LarryCarney
END:VEVENT
END:VCALENDAR
