BEGIN:VCALENDAR
PRODID:NingEventWidget-v1
VERSION:2.0
METHOD:PUBLISH
BEGIN:VEVENT
UID:1791588:Event:172159
DTSTAMP:20260421T092147Z
SUMMARY:Concerns for Todays Radiographers (Live Webinar)
DESCRIPTION:Course Topics:\n\nSocial Media: What Were You Thinking?\nÂ
 ·Â Types of Social Media\nÂ·Â Whoops and Whoa!: Case Studies\nÂ·Â Job 
 Jeopardy and Legal Ramifications\nÂ·Â Employer and Employee Rights\nÂ 
 \nThat Can Never Happen to Me! Medical Legal Issues in ImagingÂ \nÂ·Â 
 Lawyering 101:Â  Defining the Terms\nÂ·Â Identifying Risk in Imaging: 
 Areas of Liability\nÂ \nWhatâ€™s New in Radiology: Trending Topics of 
 Interest\nÂ·Â The Four Biggest Advances in Medical Imaging\nÂ·Â Enhanc
 ing Patient Experience\nÂ·Â Artificial Intelligence and Alzheimerâ€™s 
 Diagnosis\n\nFor more information visit https://community.radrounds.co
 m/events/concerns-for-todays-radiographers-live-webinar
DTSTART:20170422T130000Z
DTEND:20170422T160000Z
CATEGORIES:live, webinar
LOCATION:Advanced Health Education Center
WEBSITE:https://store.aheconline.com/index.php?route=product/product&p
 ath=59_167&product_id=2910
URL:https://store.aheconline.com/index.php?route=product/product&path=
 59_167&product_id=2910
CONTACT:800-239-1361
ORGANIZER;CN="Larry Carney":https://community.radrounds.com/profile/La
 rryCarney
ATTACH;FMTTYPE="image/jpeg":
ATTENDEE;ROLE=REQ-PARTICIPANT;PARTSTAT=ACCEPTED;RSVP=TRUE;CN="Larry Ca
 rney":https://community.radrounds.com/profile/LarryCarney
END:VEVENT
END:VCALENDAR
