BEGIN:VCALENDAR
PRODID:NingEventWidget-v1
VERSION:2.0
METHOD:PUBLISH
BEGIN:VEVENT
UID:1791588:Event:172388
DTSTAMP:20260424T022409Z
SUMMARY:Concerns for Todays Radiographers (Live Webinar)
DESCRIPTION:Social Media: What Were You Thinking?\n·Types of Social M
 edia\n·Whoops and Whoa!: Case Studies\n·Job Jeopardy and Legal Ramif
 ications\n·Employer and Employee Rights\n \nThat Can Never Happen to
  Me! Medical Legal Issues in Imaging \n· Lawyering 101:  Defining 
 the Terms\no Types of law\no Standard of care\no Torts\no Medical negl
 igence\n· Identifying Risk in Imaging: Areas of Liability\no Patient
  injuries\no Informed consent\no Privacy of records\no Labeling of the
  radiograph\no Radiographs as part of the medical record\n \nWhat’s
  New in Radiology: Trending Topics of Interest\n· The Four Biggest A
 dvances in Medical Imaging\no CT Angiography\no Imaging Testing Repl
 aces Exploratory Surgery\no PET/CT Scans for Cancer Diagnosis\no Dig
 ital Mammography\n· Enhancing Patient Experience\no Don’t Just Su
 rvey Your Patients\no Efficiency\no Leverage Technology\n· Artific
 ial Intelligence and Alzheimer’s Diagnosis\no New Research Using MR
 I to Diagnose\no Equipment\no Research Study\no The Future\n\nFor m
 ore information visit https://community.radrounds.com/events/concerns-
 for-todays-radiographers-live-webinar-3
DTSTART:20170921T220000Z
DTEND:20170922T003000Z
CATEGORIES:live, webinar
LOCATION:Advanced Health Education Center
WEBSITE:https://store.aheconline.com/index.php?route=product/product&p
 ath=59&product_id=2980
URL:https://store.aheconline.com/index.php?route=product/product&path=
 59&product_id=2980
CONTACT:800-239-1361
ORGANIZER;CN="Larry Carney":https://community.radrounds.com/profile/La
 rryCarney
ATTACH;FMTTYPE="image/jpeg":
ATTENDEE;ROLE=REQ-PARTICIPANT;PARTSTAT=ACCEPTED;RSVP=TRUE;CN="Larry Ca
 rney":https://community.radrounds.com/profile/LarryCarney
END:VEVENT
END:VCALENDAR
