BEGIN:VCALENDAR
PRODID:NingEventWidget-v1
VERSION:2.0
METHOD:PUBLISH
BEGIN:VEVENT
UID:1791588:Event:172267
DTSTAMP:20260421T205728Z
SUMMARY:Concerns for Todays Radiographers (Live Webinar)
DESCRIPTION:Social Media: What Were You Thinking?\n· Types of Social
  Media\n· Whoops and Whoa!: Case Studies\n· Job Jeopardy and Legal
  Ramifications\n· Employer and Employee Rights\n \nThat Can Never H
 appen to Me! Medical Legal Issues in Imaging \n·Lawyering 101:  Def
 ining the Terms\noTypes of law\noStandard of care\noTorts\noMedical ne
 gligence\n\n·Identifying Risk in Imaging: Areas of Liability\noPatien
 t injuries\noInformed consent\noPrivacy of records\noLabeling of the r
 adiograph\noRadiographs as part of the medical record\n \nWhat’s Ne
 w in Radiology: Trending Topics of Interest\n · The Four Biggest Ad
 vances in Medical Imaging\noCT Angiography\noImaging Testing Replaces 
 Exploratory Surgery\noPET/CT Scans for Cancer Diagnosis\noDigital Mamm
 ography\n\n· Enhancing Patient Experience\noDon’t Just Survey Your
  Patients\noEfficiency\noLeverage Technology\n\n· Artificial Intelli
 gence and Alzheimer’s Diagnosis\noNew Research Using MRI to Diagnose
 \noEquipment\noResearch Study\noThe Future\n\nFor more information vis
 it https://community.radrounds.com/events/concerns-for-todays-radiogra
 phers-live-webinar-1
DTSTART:20170518T220000Z
DTEND:20170519T003000Z
CATEGORIES:live, webinar
LOCATION:Advanced Health Education Center
WEBSITE:https://store.aheconline.com/index.php?route=product/product&p
 ath=59&product_id=2963
URL:https://store.aheconline.com/index.php?route=product/product&path=
 59&product_id=2963
CONTACT:800-239-1361
ORGANIZER;CN="Larry Carney":https://community.radrounds.com/profile/La
 rryCarney
ATTACH;FMTTYPE="image/jpeg":
ATTENDEE;ROLE=REQ-PARTICIPANT;PARTSTAT=ACCEPTED;RSVP=TRUE;CN="Larry Ca
 rney":https://community.radrounds.com/profile/LarryCarney
END:VEVENT
END:VCALENDAR
