BEGIN:VCALENDAR
PRODID:NingEventWidget-v1
VERSION:2.0
METHOD:PUBLISH
BEGIN:VEVENT
UID:1791588:Event:183335
DTSTAMP:20260425T103301Z
SUMMARY:Concerns for Today's Radiographers (Live Webinar)
DESCRIPTION:Course Topics:\n\nSocial Media: What Were You Thinking?\nT
 hat Can Never Happen to Me! Medical Legal Issues in Imaging \nWhat’
 s New in Radiology: Trending Topics of Interest\n\nFor more informatio
 n visit https://community.radrounds.com/events/concerns-for-today-s-ra
 diographers-live-webinar
DTSTART:20180801T220000Z
DTEND:20180802T010000Z
CATEGORIES:live, webinar
LOCATION:Advanced Health Education Center
WEBSITE:https://store.aheconline.com/
URL:https://store.aheconline.com/
CONTACT:800-239-1361
ORGANIZER;CN="Larry Carney":https://community.radrounds.com/profile/La
 rryCarney
ATTACH;FMTTYPE="image/jpeg":
ATTENDEE;ROLE=REQ-PARTICIPANT;PARTSTAT=ACCEPTED;RSVP=TRUE;CN="Larry Ca
 rney":https://community.radrounds.com/profile/LarryCarney
END:VEVENT
END:VCALENDAR
