BEGIN:VCALENDAR
PRODID:NingEventWidget-v1
VERSION:2.0
METHOD:PUBLISH
BEGIN:VEVENT
UID:1791588:Event:183298
DTSTAMP:20260422T004620Z
SUMMARY:Concerns for Today's Radiographers (Live Webinar)
DESCRIPTION:Course Topics:\n1. Social Media: What Were You Thinking?\n
 2. That Can Never Happen to Me! Medical Legal Issues in Imaging\n3. Wh
 at's New in Radiology: Trending Topics of Interest\n\nFor more informa
 tion visit https://community.radrounds.com/events/concerns-for-today-s
 -radiographers-live-webinar-2
DTSTART:20180915T130000Z
DTEND:20180915T160000Z
CATEGORIES:live, webinar
LOCATION:Advanced Health Education Center
WEBSITE:https://store.aheconline.com/
URL:https://store.aheconline.com/
CONTACT:800-239-1361
ORGANIZER;CN="Larry Carney":https://community.radrounds.com/profile/La
 rryCarney
ATTACH;FMTTYPE="image/jpeg":
ATTENDEE;ROLE=REQ-PARTICIPANT;PARTSTAT=ACCEPTED;RSVP=TRUE;CN="Larry Ca
 rney":https://community.radrounds.com/profile/LarryCarney
END:VEVENT
END:VCALENDAR
