BEGIN:VCALENDAR
PRODID:NingEventWidget-v1
VERSION:2.0
METHOD:PUBLISH
BEGIN:VEVENT
UID:1791588:Event:116118
DTSTAMP:20260424T004725Z
SUMMARY:Comprehensive Musculoskeletal MRI
DESCRIPTION:Comprehensive Musculoskeletal MRI Monday, March 12, 2012 -
  Thursday, March 15, 2012The Ritz Carlton Saint Thomas Saint Thomas, U
 S Virgin IslandsProvided by Duke University Department of Radiology  C
 ME Provider: Duke University Department of Radiology c/o Aladdin Trave
 l & Meeting PlannersEmily Verheyen485 Shepherd StreetWinston Salem, No
 rth Carolina (NC) 27103United States\nPhone: (336) 499-6705\n\nConfere
 nce Center:The Ritz Carlton Saint Thomas 6900 Great BaySaint Thomas, U
 S Virgin Islands\nToll Free: (340) 775-3333Phone: (340) 775-3333\nDesc
 ription:Please visit the Duke website for more information.\nSelf Asse
 ssment Module (SAM): No\nInstructors:Please visit the Duke website for
  more information.\nSpecialty Audience:Radiology\n\nFor more informati
 on visit https://community.radrounds.com/events/comprehensive-musculos
 keletal-mri-1
DTSTART:20120312T040000Z
DTEND:20120316T035900Z
CATEGORIES:radiology
LOCATION:The Ritz Carlton Saint Thomas
WEBSITE:http://www.ritzcarlton.com/en/Properties/StThomas/Default
URL:http://www.ritzcarlton.com/en/Properties/StThomas/Default
CONTACT:(340) 775-3333
ORGANIZER:University Department of Radiology
ATTACH;FMTTYPE="image/jpeg":
ATTENDEE;ROLE=REQ-PARTICIPANT;PARTSTAT=ACCEPTED;RSVP=TRUE;CN="radRound
 s Radiology Events":https://community.radrounds.com/profile/radRoundsR
 adiologyEvents
END:VEVENT
END:VCALENDAR
