BEGIN:VCALENDAR
PRODID:NingEventWidget-v1
VERSION:2.0
METHOD:PUBLISH
BEGIN:VEVENT
UID:1791588:Event:172450
DTSTAMP:20260422T200258Z
SUMMARY:Communication for Success (Live Webinar)
DESCRIPTION:Your success depends on your verbal and nonverbal communic
 ation skills. Discover how much your body language, proxemics and kine
 sics, determine how others view you. Join us for this short one hour w
 ebinar where you’ll learn the fundamentals of effective communicatio
 n.\n\nFor more information visit https://community.radrounds.com/event
 s/communication-for-success-live-webinar
DTSTART:20170817T220000Z
DTEND:20170817T234500Z
CATEGORIES:live, webinar
LOCATION:Advanced Health Education Center
WEBSITE:https://store.aheconline.com/index.php?route=product/product&p
 ath=59_167&product_id=3048
URL:https://store.aheconline.com/index.php?route=product/product&path=
 59_167&product_id=3048
CONTACT:800-239-1361
ORGANIZER;CN="Larry Carney":https://community.radrounds.com/profile/La
 rryCarney
ATTACH;FMTTYPE="image/jpeg":
ATTENDEE;ROLE=REQ-PARTICIPANT;PARTSTAT=ACCEPTED;RSVP=TRUE;CN="Larry Ca
 rney":https://community.radrounds.com/profile/LarryCarney
END:VEVENT
END:VCALENDAR
