BEGIN:VCALENDAR
PRODID:NingEventWidget-v1
VERSION:2.0
METHOD:PUBLISH
BEGIN:VEVENT
UID:1791588:Event:116332
DTSTAMP:20260423T171737Z
SUMMARY:Combined: Point of Care Ultrasound Introduction and Advanced
DESCRIPTION:Combined: Point of Care Ultrasound Introduction and Advanc
 ed Tuesday, March 27, 2012 - Saturday, March 31, 2012Advanced Health E
 ducation Center Houston, Texas (TX), United StatesProvided by Advanced
  Health Education Center  CME Provider: Advanced Health Education Cent
 er 8502 Tybor DriveHouston, Texas (TX) 77074United States\nToll Free: 
 (800) 239-1361Phone: (713) 772-0157Fax: (713) 772-0155\nConference Cen
 ter:Advanced Health Education Center 8502 Tybor DriveHouston, Texas (T
 X) 77074United States\nPhone: (800) 239-1361\n Description:New for 201
 2! Our new combined short courses Point of Care Ultrasound Introductio
 n and Advanced allows you the flexibility to pick and choose the train
 ing options that work best for you and your busy schedule. Maximize yo
 ur time away from the workplace by enrolling for the combined course o
 ption to efficiently and effectively acquire the knowledge and skills 
 needed to perform ultrasound procedures. Save by registering for both 
 courses. See the course description for Point of Care Ultrasound: Intr
 oduction and Advanced for course content and objectives.Hours 8-5 Fee 
 $2595 includes lecture, scanning laboratory instruction with models, a
 nd supplies for the classroom and laboratory. Students are responsible
  for their textbooks, housing, and transportation.\nSelf Assessment Mo
 dule (SAM): No\nInstructors:Thomas Whelan, IIIRT(R),RDMS,RDCS,RVT,FASE
 \nSpecialty Audience:Emergency MedicineFamily MedicineInternal Medicin
 eRadiology\n\nFor more information visit https://community.radrounds.c
 om/events/combined-point-of-care-ultrasound-introduction-and-advanced
DTSTART:20120327T040000Z
DTEND:20120401T035900Z
CATEGORIES:radiology
LOCATION:Advanced Health Education Center
WEBSITE:http://aheconline.com/
URL:http://aheconline.com/
CONTACT:(800) 239-1361
ORGANIZER:Advanced Health Education Center
ATTACH;FMTTYPE="image/jpeg":
ATTENDEE;ROLE=REQ-PARTICIPANT;PARTSTAT=ACCEPTED;RSVP=TRUE;CN="radRound
 s Radiology Events":https://community.radrounds.com/profile/radRoundsR
 adiologyEvents
END:VEVENT
END:VCALENDAR
