BEGIN:VCALENDAR
PRODID:NingEventWidget-v1
VERSION:2.0
METHOD:PUBLISH
BEGIN:VEVENT
UID:1791588:Event:160784
DTSTAMP:20260421T000730Z
SUMMARY:Combined Introduction to Critical Care and Advanced Emergency 
 Medicine and Critical Care Ultrasound
DESCRIPTION:The combined Introduction to Critical Care and Advanced Em
 ergency Medicine and Critical Care Ultrasound course provides particip
 ants with a strong foundation to perform the core and advanced ultraso
 und applications as outlined in the ACEP ultrasound practice guideline
 s.  Course Faculty includes the combination of leading emergency and 
 critical care ultrasound expert physicians and sonographers to provide
  the perfect balance of a physician’s clinical experience and sonogr
 apher’s expertise.The emergency and critical care ultrasound trainin
 g incorporates lectures, interactive case presentations using an audie
 nce response system, and extensive hands-on scanning, featuring a 3:1 
 ratio with live models and inanimate phantoms.  Special break-out ses
 sions are conducted for system optimization to improve the learners’
  knowledge and competence to effectively adjust the system controls. 
  This combined introduction and advanced emergency and critical care u
 ltrasound program also provides a log of 75+ supervised examinations t
 o apply towards credentialing and/or certification requirements.\n\nFo
 r more information visit https://community.radrounds.com/events/combin
 ed-introduction-to-critical-care-and-advanced-emergency
DTSTART:20150915T040000Z
DTEND:20150919T035900Z
CATEGORIES:ultrasound, cme, seminar
LOCATION:Gulfcoast Ultrasound Institute, Inc.
WEBSITE:https://www.gcus.com/courses/about.asp?course=859/Combined-Int
 ro-to-Critical-Care-and-Advanced-EM-and-Critical-Care-Ultrasound
URL:https://www.gcus.com/courses/about.asp?course=859/Combined-Intro-t
 o-Critical-Care-and-Advanced-EM-and-Critical-Care-Ultrasound
CONTACT:800.619.1900
ORGANIZER;CN="Casey Green":https://community.radrounds.com/profile/Jam
 esSalame
ATTACH;FMTTYPE="image/jpeg":
ATTENDEE;ROLE=REQ-PARTICIPANT;PARTSTAT=ACCEPTED;RSVP=TRUE;CN="Casey Gr
 een":https://community.radrounds.com/profile/JamesSalame
END:VEVENT
END:VCALENDAR
