BEGIN:VCALENDAR
PRODID:NingEventWidget-v1
VERSION:2.0
METHOD:PUBLISH
BEGIN:VEVENT
UID:1791588:Event:116133
DTSTAMP:20260423T222227Z
SUMMARY:Combined: Introduction to Abdomen and OB 3 day Ultrasound
DESCRIPTION:Combined: Introduction to Abdomen and OB 3 day Ultrasound 
 Monday, March 19, 2012 - Saturday, March 24, 2012Advanced Health Educa
 tion Center Houston, Texas (TX), United StatesProvided by Advanced Hea
 lth Education Center  CME Provider: Advanced Health Education Center 8
 502 Tybor DriveHouston, Texas (TX) 77074United States\nToll Free: (800
 ) 239-1361Phone: (713) 772-0157Fax: (713) 772-0155\nConference Center:
 Advanced Health Education Center 8502 Tybor DriveHouston, Texas (TX) 7
 7074United States\nPhone: (800) 239-1361 Description:New for 2011! Our
  new combined short courses in abdominal and OB ultrasound allow you t
 he flexibility to pick and choose the training options that work best 
 for you and your schedule. Maximize your time away from the workplace 
 and enroll for a combined course in Abdominal Ultrasound + OB three da
 y. The focus of this six day course is to provide participants with th
 e “need to know” information to efficiently and effectively comple
 te a general abdominal and basic OB ultrasound procedure. The first th
 ree days of the course is the presentation of the basic ultrasound tec
 hniques involved in completing an abdominal ultrasound series and gene
 ral handling of the ultrasound device. The course comprises an introdu
 ction to normal ultrasound anatomy of the abdominal organs, followed b
 y lecture presentations of the common pathologic changes encountered i
 n a diagnostic procedure. The OB course includes evaluation of the non
 -gravid pelvis, fetal measurements and the ultrasound appearance of fe
 tal anomalies. Lecture is followed each day by a faculty supervised ha
 nds on ultrasound scan lab. The Interactive scan lab with live models 
 and small groups allow each participant ample opportunity to gain the 
 knowledge and skill needed to independently perform a basic abdominal 
 ultrasound procedure.\nObjectivesAt the completion of this course, the
  learner will be able to:• Demonstrate a basic understanding of ultr
 asound physics• Utilize the principles of instrumentation to set up 
 ultrasound equipment for scanning• Recognize and identify the organ 
 systems of the abdomen on the ultrasound image• Differentiate betwee
 n normal and abnormal variants on an ultrasound image• Perform a bas
 ic ultrasound procedure of the abdomen • Recognize normal and abnorm
 al pelvic anatomy• Identify the difference in techniques related to 
 transabdominal and transvaginal pelvic scanning techniques• Apply ap
 propriate measurement techniques in transabdominal and endovaginal sca
 nning\nTarget Audience Physicians, sonographers, and other medical pro
 fessionals who are the entry level of ultrasound scanning and interpre
 tation. Physician groups may include but are not limited to; family pr
 actice, internal medicine, and emergency medicine.\nCME Credit “The 
 Advanced Health Education Center is accredited by the Accreditation Co
 uncil for Continuing Medical Education to provide continuing medical e
 ducation for physicians.“The Advanced Health Education Center design
 ates this educational activity for a maximum of 48 hours AMA PRA Categ
 ory I™. Physician should claim credit commensurate with the extent o
 f their participation in the activity.”\nFee $2795 includes lecture,
  scanning laboratory instruction with models, and supplies for the cla
 ssroom and laboratory. Students are responsible for their textbooks, h
 ousing, and transportation.\nSelf Assessment Module (SAM): No\nInstruc
 tors:Thomas Whelan, IIIRT(R),RDMS,RDCS,RVT,FASE\nSpecialty Audience:Ra
 diology\n\nFor more information visit https://community.radrounds.com/
 events/combined-introduction-to-abdomen-and-ob-3-day-ultrasound
DTSTART:20120319T040000Z
DTEND:20120325T035900Z
CATEGORIES:radiology
LOCATION:Advanced Health Education Center
WEBSITE:http://aheconline.com/
URL:http://aheconline.com/
CONTACT:(800) 239-1361
ORGANIZER:Advanced Health Education Center
ATTACH;FMTTYPE="image/jpeg":
ATTENDEE;ROLE=REQ-PARTICIPANT;PARTSTAT=ACCEPTED;RSVP=TRUE;CN="radRound
 s Radiology Events":https://community.radrounds.com/profile/radRoundsR
 adiologyEvents
END:VEVENT
END:VCALENDAR
