BEGIN:VCALENDAR
PRODID:NingEventWidget-v1
VERSION:2.0
METHOD:PUBLISH
BEGIN:VEVENT
UID:1791588:Event:160782
DTSTAMP:20260420T184110Z
SUMMARY:Combined Introduction Emergency and Advanced Emergency Medicin
 e and Critical Care Ultrasound
DESCRIPTION:The 5-day Hands-on Introduction to emergency ultrasound pr
 ogram provides participants with a strong foundation to perform the co
 re and advanced ultrasound applications as outlined in the ACEP ultras
 ound practice guidelines. This unique ultrasound training course incor
 porates comprehensive lectures, interactive case presentations using a
 n audience response system, and extensive hands-on scanning, featuring
  a 3:1 ratio with live models and inanimate phantoms This emergency ul
 trasound program also provides a log of 70+ supervised examinations to
  apply towards credentialing and/or certification requirements.\n\nFor
  more information visit https://community.radrounds.com/events/combine
 d-introduction-emergency-and-advanced-emergency-medicine
DTSTART:20150914T040000Z
DTEND:20150919T035900Z
CATEGORIES:ultrasound, cme, seminar
LOCATION:Gulfcoast Ultrasound Institute, Inc.
WEBSITE:https://www.gcus.com/courses/about.asp?course=857/Combined-Int
 ro-to-Emergency-and-Advanced-EM-and-Critical-Care-Ultrasound
URL:https://www.gcus.com/courses/about.asp?course=857/Combined-Intro-t
 o-Emergency-and-Advanced-EM-and-Critical-Care-Ultrasound
CONTACT:800.619.1900
ORGANIZER;CN="Casey Green":https://community.radrounds.com/profile/Jam
 esSalame
ATTACH;FMTTYPE="image/jpeg":
ATTENDEE;ROLE=REQ-PARTICIPANT;PARTSTAT=ACCEPTED;RSVP=TRUE;CN="Casey Gr
 een":https://community.radrounds.com/profile/JamesSalame
END:VEVENT
END:VCALENDAR
