BEGIN:VCALENDAR
PRODID:NingEventWidget-v1
VERSION:2.0
METHOD:PUBLISH
BEGIN:VEVENT
UID:1791588:Event:160776
DTSTAMP:20260420T062402Z
SUMMARY:Combined Introduction and Advanced MSK Ultrasound with Human C
 adaver Lab
DESCRIPTION:This live five-day course will expand your knowledge and c
 ompetence to integrate advanced MSK ultrasound techniques and ultrasou
 nd-guided interventional treatment options into clinical practice.  T
 aught by leading MSK ultrasound experts, the program includes interact
 ive lectures, case presentations, and advanced MSK imaging techniques 
 including 2 interventional cadaver workshops.Using un-embalmed human c
 adavers provides enhanced skills training for ultrasound-guided interv
 entional techniques and extensive hands-on scanning for the most compr
 ehensive training experience available.  \nThe most comprehensive mus
 culoskeletal course available!\n\nFor more information visit https://c
 ommunity.radrounds.com/events/combined-introduction-and-advanced-msk-u
 ltrasound-with-human
DTSTART:20150810T040000Z
DTEND:20150815T035900Z
CATEGORIES:ultrasound, cme, seminar
LOCATION:Gulfcoast Ultrasound Institute, Inc.
WEBSITE:https://www.gcus.com/courses/about.asp?course=908/Combined-Int
 roduction-and-Advanced-MSK-Ultrasound-with-Human-Cadaver-Lab
URL:https://www.gcus.com/courses/about.asp?course=908/Combined-Introdu
 ction-and-Advanced-MSK-Ultrasound-with-Human-Cadaver-Lab
CONTACT:800.619.1900
ORGANIZER;CN="Casey Green":https://community.radrounds.com/profile/Jam
 esSalame
ATTACH;FMTTYPE="image/jpeg":
ATTENDEE;ROLE=REQ-PARTICIPANT;PARTSTAT=ACCEPTED;RSVP=TRUE;CN="Casey Gr
 een":https://community.radrounds.com/profile/JamesSalame
END:VEVENT
END:VCALENDAR
