BEGIN:VCALENDAR
PRODID:NingEventWidget-v1
VERSION:2.0
METHOD:PUBLISH
BEGIN:VEVENT
UID:1791588:Event:116215
DTSTAMP:20260423T171645Z
SUMMARY:Combined: Intro to Emergency Medicine and Advanced Emergency M
 edicine US
DESCRIPTION:Combined: Intro to Emergency Medicine and Advanced Emergen
 cy Medicine US Tuesday, March 27, 2012 - Thursday, March 29, 2012Advan
 ced Health Education Center Houston, Texas (TX), United StatesProvided
  by Advanced Health Education Center  CME Provider: Advanced Health Ed
 ucation Center 8502 Tybor DriveHouston, Texas (TX) 77074United States\
 nToll Free: (800) 239-1361Phone: (713) 772-0157Fax: (713) 772-0155\n\n
 Conference Center:Advanced Health Education Center 8502 Tybor DriveHou
 ston, Texas (TX) 77074United States\nPhone: (800) 239-1361\n Descripti
 on:New for 2012! Our new combined short course Introduction and Advanc
 ed Emergency Medicine Ultrasound allows you the flexibility to pick an
 d choose the training options that work best for you and your busy sch
 edule. Maximize your time away from the workplace by enrolling for the
  combined course option to efficiently and effectively acquire the kno
 wledge and skills needed to perform ultrasound procedures in an emerge
 ncy setting. The focus of the first three days of the course is the pr
 esentation of the basic ultrasound tools and techniques needed to perf
 orm ultrasound in an emergency setting. You will acquire the skills to
  perform focused evaluation of the abdomen, ultrasound evaluation of t
 he trauma patient (FAST) procedure, 1st trimester pregnancy evaluation
  and cardiac ultrasound. The last two days of the course will build on
  the momentum you gained with the performance of the basic ultrasound 
 procedures and move into expanded applications of bedside ultrasound. 
 The power and size of the new portable ultrasound equipment now allows
  for advanced cardiac evaluation and pulmonary applications. You will 
 learn advance cardiac scanning techniques, skills for DVT’s evaluati
 on, ultrasound guided procedures and vascular access, soft tissue ultr
 asound evaluation and new applications.Lecture is followed each day by
  a faculty supervised hands on ultrasound scan lab. The Interactive sc
 an lab with live models and small groups allow each participant ample 
 opportunity to gain the knowledge and skill needed to independently pe
 rform a basic abdominal ultrasound procedure.\nObjectivesPlease see in
 dividual course on website to review objectives, course topics, etc CM
 E Credit “The Advanced Health Education Center is accredited by the 
 Accreditation Council for Continuing Medical Education to provide cont
 inuing medical education for physicians.“The Advanced Health Educati
 on Center designates this educational activity for a maximum of 40 hou
 rs AMA PRA Category I™. Physician should claim credit commensurate w
 ith the extent of their participation in the activity.”\nFaculty AHE
 C Staff Dates/Locations January 24-28, 2011 March 29-April 2, 2011 Aug
 ust 15-19, 2011 Advanced Health Education Center 8502 Tybor Drive Hous
 ton, Texas 77074 Hours 8-5Fee $2595 includes lecture, scanning laborat
 ory instruction with models, and supplies for the classroom and labora
 tory. Students are responsible for their textbooks, housing, and trans
 portation\nSelf Assessment Module (SAM): No\nInstructors:Thomas Whelan
 , IIIRT(R),RDMS,RDCS,RVT,FASE\nSpecialty Audience:Emergency MedicineIn
 ternal MedicineRadiology\n\nFor more information visit https://communi
 ty.radrounds.com/events/combined-intro-to-emergency-medicine-and-advan
 ced-emergency-1
DTSTART:20120327T040000Z
DTEND:20120330T035900Z
CATEGORIES:radiology
LOCATION:Advanced Health Education Center
WEBSITE:http://aheconline.com/
URL:http://aheconline.com/
CONTACT:(800) 239-1361
ORGANIZER:Advanced Health Education Center
ATTACH;FMTTYPE="image/jpeg":
ATTENDEE;ROLE=REQ-PARTICIPANT;PARTSTAT=ACCEPTED;RSVP=TRUE;CN="radRound
 s Radiology Events":https://community.radrounds.com/profile/radRoundsR
 adiologyEvents
END:VEVENT
END:VCALENDAR
