BEGIN:VCALENDAR
PRODID:NingEventWidget-v1
VERSION:2.0
METHOD:PUBLISH
BEGIN:VEVENT
UID:1791588:Event:160662
DTSTAMP:20260421T092326Z
SUMMARY:Combined Courses: Introduction to Carotid & Peripheral Vascula
 r Duplex/Color Flow Imaging
DESCRIPTION:The Introduction to Carotid and Duplex/Color Flow Imaging 
 and Peripheral Vascular Ultrasound hands-on course is a live, five-day
  program designed to provide a strong foundation to perform and/or int
 erpret carotid and peripheral vascular ultrasound examinations. The co
 urse is taught by leading vascular specialists and includes lectures, 
 interactive case studies, and extensive hands- on scanning, featuring 
 a 3:1 hands-on ratio using live models. Program topics include anatomy
 /physiology, scan protocols/techniques, and normal & abnormal duplex/c
 olor flow characteristics of the carotid, peripheral venous and arteri
 al systems.The Carotid and Peripheral Vascular Ultrasound protocols ar
 e taught in accordance with AIUM and IAC guidelines. In addition, a co
 mprehensive review of diagnostic criteria and the incorporation of ove
 r 145+ interactive case studies for cerebrovascular, upper and lower e
 xtremity venous and arterial disease are also provided. Hands-on train
 ing targets not only Carotid and Peripheral Vascular duplex/color flow
  imaging, but also offers indirect arterial testing methods and diagno
 stic criteria. This intensive hands-on carotid duplex/color flow imag
 ing program provides the training needed to immediately begin integrat
 ing the newly acquired skills into clinical practice.\n\nFor more info
 rmation visit https://community.radrounds.com/events/combined-courses-
 introduction-to-carotid-peripheral-vascular
DTSTART:20150608T040000Z
DTEND:20150613T035900Z
CATEGORIES:ultrasound, cme, seminar
LOCATION:Gulfcoast Ultrasound Institute, Inc.
WEBSITE:https://www.gcus.com/courses/about.asp?course=846/Combined-Cou
 rses:-Introduction-to-Carotid-and-Peripheral-Vascular-Duplex-Color-Flo
 w-Imaging
URL:https://www.gcus.com/courses/about.asp?course=846/Combined-Courses
 :-Introduction-to-Carotid-and-Peripheral-Vascular-Duplex-Color-Flow-Im
 aging
CONTACT:800.619.1900
ORGANIZER;CN="Casey Green":https://community.radrounds.com/profile/Jam
 esSalame
ATTACH;FMTTYPE="image/jpeg":
ATTENDEE;ROLE=REQ-PARTICIPANT;PARTSTAT=ACCEPTED;RSVP=TRUE;CN="Casey Gr
 een":https://community.radrounds.com/profile/JamesSalame
END:VEVENT
END:VCALENDAR
