BEGIN:VCALENDAR
PRODID:NingEventWidget-v1
VERSION:2.0
METHOD:PUBLISH
BEGIN:VEVENT
UID:1791588:Event:160748
DTSTAMP:20260421T123154Z
SUMMARY:Combined Courses: Introduction to Carotid Duplex/Color Flow an
 d Transcranial Doppler
DESCRIPTION:The Carotid Duplex/Color Flow Imaging and Transcranial Dop
 pler hands-on course is a live, five-day program designed to provide a
  strong foundation to perform and/or interpret carotid and transcrania
 l ultrasound examinations. The Carotid Duplex/Color Flow Imaging and T
 ranscranial Doppler hands-on ultrasound training is taught by leading 
 vascular specialists and includes lectures, interactive case studies, 
 pathology simulation, and extensive hands on scanning featuring a 3:1 
 hands-on ratio using live models. Program topics include anatomy/physi
 ology, scan protocols/techniques, and normal & abnormal duplex/color f
 low characteristics of the carotid and transcranial vasculature. Over 
 80 case studies will be presented. The Carotid and TCD/TCI Ultrasound 
 protocols are taught in accordance with AIUM and IAC guidelines. This
  intensive hands-on carotid duplex/color flow and transcranial imaging
  program provides the training needed to immediately begin integrating
  the newly acquired skills into clinical practice.\n\nFor more informa
 tion visit https://community.radrounds.com/events/combined-courses-int
 roduction-to-carotid-duplex-color-flow-and
DTSTART:20150608T040000Z
DTEND:20150613T035900Z
CATEGORIES:ultrasound, cme, seminar
LOCATION:Gulfcoast Ultrasound Institute, Inc.
WEBSITE:https://www.gcus.com/courses/about.asp?course=848/Combined-Cou
 rses:-Intro-to-Carotid-Duplex-Color-Flow-andTranscranial-Doppler
URL:https://www.gcus.com/courses/about.asp?course=848/Combined-Courses
 :-Intro-to-Carotid-Duplex-Color-Flow-andTranscranial-Doppler
CONTACT:800.619.1900
ORGANIZER;CN="Casey Green":https://community.radrounds.com/profile/Jam
 esSalame
ATTACH;FMTTYPE="image/jpeg":
ATTENDEE;ROLE=REQ-PARTICIPANT;PARTSTAT=ACCEPTED;RSVP=TRUE;CN="Casey Gr
 een":https://community.radrounds.com/profile/JamesSalame
END:VEVENT
END:VCALENDAR
