BEGIN:VCALENDAR
PRODID:NingEventWidget-v1
VERSION:2.0
METHOD:PUBLISH
BEGIN:VEVENT
UID:1791588:Event:73163
DTSTAMP:20260425T204413Z
SUMMARY:Combined Courses: Intro to Carotid and Peripheral Vascular Ult
 rasound
DESCRIPTION:Combined courses: Intro to Carotid and Peripheral Vascular
  -- October 2011\n\nStart Date: 10/24/2011\nEnd Date: 10/28/2011\nAdva
 nced Registration: $2,845.00\nRegular Registration: $2,925.00\nLocatio
 n: Gulfcoast Ultrasound Institute\nAddress: 4615 Gulf Blvd., Suite 205
 \nSt. Pete Beach, FL 33706\n\n40.0 AMA PRA Category 1 Credit(s)TM\n38 
 Category A ASRT credit(s)\n\n*The Advanced Registration fee is honored
  if payment is made/postmarked 21 days or more prior to the beginning 
 date of the program\n\nA $100.00 late fee will apply if registering le
 ss than or equal to 7 Days before the course. Call to register if less
  than or equal to 7 days from course date.\n\nCME Credit Statements\n\
 nThe Gulfcoast Ultrasound Institute is accredited by the Accreditation
  Council for Continuing Medical Education to provide continuing medica
 l education for physicians.\n\nThe Gulfcoast Ultrasound Institute desi
 gnates this educational activity for a maximum of 40.0 AMA PRA Categor
 y 1 CME Credit(s)™. Physicians should only claim credit commensurate
  with the extent of their participation in the activity.\n\nApproved b
 y the ASRT for 38 Category A continuing education credit. Note: ASRT c
 redits are accepted by the ARRT as Category A credits.\n\nThis course 
 also meets CME/CEU requirements for ARDMS. Note: While offering the CM
 E credit hours noted above, activities are not intended to provide ext
 ensive training or certification for exam performance or interpretatio
 n.\n\nFor more information visit https://community.radrounds.com/event
 s/combined-courses-intro-to-3
DTSTART:20111024T040000Z
DTEND:20111029T035900Z
CATEGORIES:course
LOCATION:Gulfcoast Ultrasound Institute
WEBSITE:http://www.gcus.com/detail.asp?MediaType=Program&MediaNumber=C
 P-113
URL:http://www.gcus.com/detail.asp?MediaType=Program&MediaNumber=CP-11
 3
CONTACT:
ORGANIZER:Gulfcoast Ultrasound Institute, Inc.
ATTACH;FMTTYPE="image/jpeg":
ATTENDEE;ROLE=REQ-PARTICIPANT;PARTSTAT=ACCEPTED;RSVP=TRUE;CN="radRound
 s Radiology Events":https://community.radrounds.com/profile/radRoundsR
 adiologyEvents
END:VEVENT
END:VCALENDAR
