BEGIN:VCALENDAR
PRODID:NingEventWidget-v1
VERSION:2.0
METHOD:PUBLISH
BEGIN:VEVENT
UID:1791588:Event:117609
DTSTAMP:20260422T045121Z
SUMMARY:Combined Course: Introduction to Abdominal Ultrasound and Limi
 ted OB
DESCRIPTION:Combined Course: Introduction to Abdominal Ultrasound and 
 Limited OB Wednesday, May 02, 2012 - Sunday, May 06, 2012Advanced Heal
 th Education Center Houston, Texas (TX), United StatesProvided by Adva
 nced Health Education Center  CME Provider: Advanced Health Education 
 Center 8502 Tybor DriveHouston, Texas (TX) 77074United States\nToll Fr
 ee: (800) 239-1361Phone: (713) 772-0157Fax: (713) 772-0155 Conference 
 Center:Advanced Health Education Center 8502 Tybor DriveHouston, Texas
  (TX) 77074United States\nPhone: (800) 239-1361\n Description:New for 
 2011! Our new combined short courses in abdominal and Limited OB ultra
 sound allow you the flexibility to pick and choose the training option
 s that work best for you and your schedule. Maximize your time away fr
 om the workplace and enroll for a combined course. The focus of this f
 ive day course is to provide participants with the “need to know” 
 information to efficiently and effectively complete a general abdomina
 l and Limited OB ultrasound procedure.The first three days of the cour
 se is the presentation of the basic ultrasound techniques involved in 
 completing an abdominal ultrasound series and general handling of the 
 ultrasound device. The course comprises an introduction to normal ultr
 asound anatomy of the abdominal organs, followed by lecture presentati
 ons of the common pathologic changes encountered in a diagnostic proce
 dure. The two-day Limited OB program is designed for the healthcare pr
 ofessional using ultrasound to provide enhancement to the obstetrical 
 examination. The OB course includes evaluation of the gravid pelvis, f
 etal measurements and the ultrasound appearance of fetal anomalies. Le
 cture is followed each day by a faculty supervised hands on ultrasound
  scan lab. The Interactive scan lab with live models and small groups 
 allow each participant ample opportunity to gain the knowledge and ski
 ll needed to independently perform a basic abdominal ultrasound proced
 ure.\n\nSelf Assessment Module (SAM): No\nInstructors: Thomas Whelan,
  IIIRT(R),RDMS,RDCS,RVT,FASE\nSpecialty Audience: Radiology\n\nFor mo
 re information visit https://community.radrounds.com/events/combined-c
 ourse-introduction-to-abdominal-ultrasound-and-limited
DTSTART:20120502T040000Z
DTEND:20120507T035900Z
CATEGORIES:radiology
LOCATION:Advanced Health Education Center
WEBSITE:http://aheconline.com/
URL:http://aheconline.com/
CONTACT:(800) 239-1361
ORGANIZER:http://aheconline.com/
ATTACH;FMTTYPE="image/jpeg":
ATTENDEE;ROLE=REQ-PARTICIPANT;PARTSTAT=ACCEPTED;RSVP=TRUE;CN="radRound
 s Radiology Events":https://community.radrounds.com/profile/radRoundsR
 adiologyEvents
END:VEVENT
END:VCALENDAR
