BEGIN:VCALENDAR
PRODID:NingEventWidget-v1
VERSION:2.0
METHOD:PUBLISH
BEGIN:VEVENT
UID:1791588:Event:115851
DTSTAMP:20260424T044447Z
SUMMARY:Combined Chest & Emergency X-Ray Interpretation
DESCRIPTION:Combined Chest & Emergency X-Ray Interpretation Saturday, 
 March 03, 2012 - Sunday, March 04, 2012Royal Brisbane and Women's Hosp
 ital Brisbane, AustraliaProvided by Lightbox Radiology Education  CME 
 Provider: Lightbox Radiology Education P.O. Box 1405Noosaville BC, 456
 6Australia\nPhone: +61468991174\n\nConference Center:Royal Brisbane an
 d Women's Hospital Bowen bridge rdBrisbane, 4029Australia\nPhone: 3636
 8111\n Description:Despite the technological advancements in medical i
 maging, the chest X-ray remains the most frequently requested radiolog
 ical investigation, and one of, if not the most difficult to interpret
  correctly. Our 'Combined Chest X-Ray and Emergency X-Ray Interpretati
 on' course provides a comprehensive review of the fundamental principl
 es in chest and emergency X-ray interpretation. Interactive multimedia
  small live group sessions are undertaken between lectures. The goal o
 f the course is to provide practitioners with the confidence to recogn
 ise a normal chest X-ray, common patterns of disease and to recognise 
 radiographic patterns of trauma and injury commonly encountered for ea
 ch body area.\nSelf Assessment Module (SAM): No\nInstructors:Please se
 e website www.lightboxradiology.com.au\nSpecialty Audience:Radiology\n
 \nFor more information visit https://community.radrounds.com/events/co
 mbined-chest-emergency-x-ray-interpretation
DTSTART:20120303T050000Z
DTEND:20120305T045900Z
CATEGORIES:radiology
LOCATION:Royal Brisbane and Women's Hospital
WEBSITE:http://www.health.qld.gov.au/rbwh/
URL:http://www.health.qld.gov.au/rbwh/
CONTACT:36368111
ORGANIZER:Lightbox Radiology Education
ATTACH;FMTTYPE="image/jpeg":
ATTENDEE;ROLE=REQ-PARTICIPANT;PARTSTAT=ACCEPTED;RSVP=TRUE;CN="radRound
 s Radiology Events":https://community.radrounds.com/profile/radRoundsR
 adiologyEvents
END:VEVENT
END:VCALENDAR
