BEGIN:VCALENDAR
PRODID:NingEventWidget-v1
VERSION:2.0
METHOD:PUBLISH
BEGIN:VEVENT
UID:1791588:Event:115989
DTSTAMP:20260424T020220Z
SUMMARY:Combined Chest and Emergency X-Ray Interpretation
DESCRIPTION:Combined Chest and Emergency X-Ray Interpretation Saturday
 , March 10, 2012 - Sunday, March 11, 2012Toshiba HeadquartersNorth Ryd
 e, AustraliaProvided by Lightbox Radiology Education  CME Provider: Li
 ghtbox Radiology Education P.O. Box 1405Noosaville BC, 4566Australia\n
 Phone: +61468991174\n\nConference Center:Toshiba Headquarters12/18-24 
 Talavera RdNorth Ryde, Australia\nPhone: 9887 8000\nDescription:Despit
 e the technological advancements in medical imaging, the chest X-ray r
 emains the most frequently requested radiological investigation, and o
 ne of, if not the most difficult to interpret correctly. Our 'Combined
  Chest X-Ray and Emergency X-Ray Interpretation' course provides a com
 prehensive review of the fundamental principles in chest and emergency
  X-ray interpretation. Interactive multimedia small live group session
 s are undertaken between lectures. The goal of the course is to provid
 e practitioners with the confidence to recognise a normal chest X-ray,
  common patterns of disease and to recognise radiographic patterns of 
 trauma and injury commonly encountered for each body area.\nSelf Asses
 sment Module (SAM): No\nInstructors:Please visit the Lightbox Radiolog
 y Education website for more information.\nSpecialty Audience:Radiolog
 y\n\nFor more information visit https://community.radrounds.com/events
 /combined-chest-and-emergency-x-ray-interpretation
DTSTART:20120310T050000Z
DTEND:20120312T035900Z
CATEGORIES:radiology
LOCATION:Toshiba Headquarters
WEBSITE:
URL:
CONTACT:9887 8000
ORGANIZER:Lightbox Radiology Education
ATTACH;FMTTYPE="image/jpeg":
ATTENDEE;ROLE=REQ-PARTICIPANT;PARTSTAT=ACCEPTED;RSVP=TRUE;CN="radRound
 s Radiology Events":https://community.radrounds.com/profile/radRoundsR
 adiologyEvents
END:VEVENT
END:VCALENDAR
