BEGIN:VCALENDAR
PRODID:NingEventWidget-v1
VERSION:2.0
METHOD:PUBLISH
BEGIN:VEVENT
UID:1791588:Event:153332
DTSTAMP:20260420T140510Z
SUMMARY:Clinical Nuclear Medicine, PET-CT and PET-MRI
DESCRIPTION:Clinical Nuclear Medicine, PET-CT and PET-MRI is a well-es
 tablished multidisciplinary post-graduate course designed for health c
 are professionals involved in the practice of nuclear medicine and mol
 ecular imaging including nuclear medicine physicians, radiologists, fe
 llows, residents, medical students, physicists and technologists. The 
 objective of the course is to provide continuing and up-to-date profes
 sional development through the review of established clinical applicat
 ions as well as new and emerging ones within the specialty of nuclear 
 medicine and molecular imaging. Through a combination of lectures on v
 arious topics with a focus on CASE-BASED STUDIES with interactive audi
 ence participation using an electronic audience response system, the p
 articipants will be able to review a broad scope of new and advanced c
 linical applications, learn about technology innovations, and particip
 ate in Self-Assessment Modules (SAMs) to fulfill yearly Maintenance of
  Certification (MOC) requirements.\nACCREDITATION The Harvard Medical 
 School is accredited by the Accreditation Council for Continuing Medic
 al Education to provide continuing medical education for physicians.\n
 The Harvard Medical School designates this live activity for a maximum
  of 29 AMA PRA Category 1 Credits™.\nThe Royal College of Physicians
  and Surgeons of Canada recognizes conferences and workshops held outs
 ide of Canada that are developed by a university, academy, hospital, s
 pecialty society or college as accredited group learning activities.\n
 TECHNOLOGISTS - Pending approval for CE credit by the ASRT.\nTO REGIST
 ER or View Activity Information Online, visit: www.cme.hms.harvard.edu
 /courses/clinicalnuclear\n\nFor more information visit https://communi
 ty.radrounds.com/events/clinical-nuclear-medicine-pet-ct-and-pet-mri
DTSTART:20140519T120000Z
DTEND:20140522T210000Z
CATEGORIES:radiology, conference
LOCATION:Boston Marriott Long Wharf Hotel
WEBSITE:
URL:
CONTACT:617-525-7330
ORGANIZER;CN="Danielle Klette":https://community.radrounds.com/profile
 /DanielleKlette
ATTACH;FMTTYPE="image/jpeg":
ATTENDEE;ROLE=REQ-PARTICIPANT;PARTSTAT=ACCEPTED;RSVP=TRUE;CN="Danielle
  Klette":https://community.radrounds.com/profile/DanielleKlette
END:VEVENT
END:VCALENDAR
