BEGIN:VCALENDAR
PRODID:NingEventWidget-v1
VERSION:2.0
METHOD:PUBLISH
BEGIN:VEVENT
UID:1791588:Event:195914
DTSTAMP:20260421T204318Z
SUMMARY:Chest and Skeletal Pathology (Live Webinar)
DESCRIPTION:Course Topics:\nChest/Thoracic Pathology\n\nAnatomy Review
 \nCase Studies of Chest Pathology\nUnusual Findings\n\nSkeletal Pathol
 ogy\n\nAnatomical Review of Extremities\nCase Studies\nUnusual Finding
 \nIndications of Child Abuse & Other Oddities\n\nCourse Objectives\nAt
  the conclusion of this course, participants should be able to:\n\nIde
 ntify the tell-tell signs of pneumonia\nDescribe how pneumoconiosis pr
 esents in chest imaging\nDiscuss strategies for obtaining difficult vi
 ews of the knee\nDiscuss fracture aging\nUnderstand who to notify if c
 hild abuse is suspected radiographically and who is responsible for th
 at determination\n\n\nFor more information visit https://community.rad
 rounds.com/events/chest-and-skeletal-pathology-live-webinar-5
DTSTART:20200106T140000Z
DTEND:20200106T170000Z
CATEGORIES:live, webinar
LOCATION:Advanced Health Education Center
WEBSITE:http://store.aheconline.com
URL:http://store.aheconline.com
CONTACT:1(800) 239-1361
ORGANIZER:AHEC
ATTACH;FMTTYPE="image/jpeg":
ATTENDEE;ROLE=REQ-PARTICIPANT;PARTSTAT=ACCEPTED;RSVP=TRUE;CN="Larry Ca
 rney":https://community.radrounds.com/profile/LarryCarney
END:VEVENT
END:VCALENDAR
