BEGIN:VCALENDAR
PRODID:NingEventWidget-v1
VERSION:2.0
METHOD:PUBLISH
BEGIN:VEVENT
UID:1791588:Event:168104
DTSTAMP:20260421T162838Z
SUMMARY:Challenges in the Medical Imaging Work Environment
DESCRIPTION:Course Topics\n\nOccupational Stress for Radiographers\nRa
 diology Myths Debunked\nRace, Ethnicity, Culture, and Disparities in H
 ealth Care\nBalancing Quality of Care and Efficiency\nALARA – Really
 ?\nWhen the Doc is Away – Teleradiology\n\n\nFor more information vi
 sit https://community.radrounds.com/events/challenges-in-the-medical-i
 maging-work-environment
DTSTART:20160618T120000Z
DTEND:20160618T201500Z
CATEGORIES:live, event
LOCATION:Laredo
WEBSITE:https://store.aheconline.com/index.php?route=product/product&p
 ath=59&product_id=2471
URL:https://store.aheconline.com/index.php?route=product/product&path=
 59&product_id=2471
CONTACT:1-800-239-1361
ORGANIZER;CN="Larry Carney":https://community.radrounds.com/profile/La
 rryCarney
ATTACH;FMTTYPE="image/jpeg":
ATTENDEE;ROLE=REQ-PARTICIPANT;PARTSTAT=ACCEPTED;RSVP=TRUE;CN="Larry Ca
 rney":https://community.radrounds.com/profile/LarryCarney
END:VEVENT
END:VCALENDAR
