BEGIN:VCALENDAR
PRODID:NingEventWidget-v1
VERSION:2.0
METHOD:PUBLISH
BEGIN:VEVENT
UID:1791588:Event:184937
DTSTAMP:20260421T114635Z
SUMMARY:Challenges and Triumphs for the Advanced Mammographer (Live Ev
 ent)
DESCRIPTION:Course Topics\n\nPatient Management: High Risk Lesions\nBr
 east Cancer Pathology Reports\nHistory of MQSA and The ACR\nImage Crit
 ique\nBreast Pathology\nStereotactic Breast Biopsy: Update and Case St
 udies\nHistory of Breast Surgery\nWowing the Patient and Gaining Compl
 iance\n\n\nFor more information visit https://community.radrounds.com/
 events/challenges-and-triumphs-for-the-advanced-mammographer-live-even
 t
DTSTART:20190608T120000Z
DTEND:20190608T201500Z
CATEGORIES:live, event
LOCATION:Citizens Medical Center
WEBSITE:http://store.aheconline.com
URL:http://store.aheconline.com
CONTACT:800-239-1361
ORGANIZER;CN="Larry Carney":https://community.radrounds.com/profile/La
 rryCarney
ATTACH;FMTTYPE="image/jpeg":
ATTENDEE;ROLE=REQ-PARTICIPANT;PARTSTAT=ACCEPTED;RSVP=TRUE;CN="Larry Ca
 rney":https://community.radrounds.com/profile/LarryCarney
END:VEVENT
END:VCALENDAR
